BEGIN:VCALENDAR
VERSION:2.0
PRODID:-//Vitalis - ECPv6.15.20//NONSGML v1.0//EN
CALSCALE:GREGORIAN
METHOD:PUBLISH
X-ORIGINAL-URL:https://pv-vitalis.nl
X-WR-CALDESC:Evenementen voor Vitalis
REFRESH-INTERVAL;VALUE=DURATION:PT1H
X-Robots-Tag:noindex
X-PUBLISHED-TTL:PT1H
BEGIN:VTIMEZONE
TZID:Europe/Amsterdam
BEGIN:DAYLIGHT
TZOFFSETFROM:+0100
TZOFFSETTO:+0200
TZNAME:CEST
DTSTART:20240331T010000
END:DAYLIGHT
BEGIN:STANDARD
TZOFFSETFROM:+0200
TZOFFSETTO:+0100
TZNAME:CET
DTSTART:20241027T010000
END:STANDARD
BEGIN:DAYLIGHT
TZOFFSETFROM:+0100
TZOFFSETTO:+0200
TZNAME:CEST
DTSTART:20250330T010000
END:DAYLIGHT
BEGIN:STANDARD
TZOFFSETFROM:+0200
TZOFFSETTO:+0100
TZNAME:CET
DTSTART:20251026T010000
END:STANDARD
BEGIN:DAYLIGHT
TZOFFSETFROM:+0100
TZOFFSETTO:+0200
TZNAME:CEST
DTSTART:20260329T010000
END:DAYLIGHT
BEGIN:STANDARD
TZOFFSETFROM:+0200
TZOFFSETTO:+0100
TZNAME:CET
DTSTART:20261025T010000
END:STANDARD
END:VTIMEZONE
BEGIN:VEVENT
DTSTART;TZID=Europe/Amsterdam:20250407T190000
DTEND;TZID=Europe/Amsterdam:20250407T220000
DTSTAMP:20260419T140803
CREATED:20250313T120350Z
LAST-MODIFIED:20250317T080508Z
UID:10000198-1744052400-1744063200@pv-vitalis.nl
SUMMARY:Paas workshop 7 april 2025
DESCRIPTION:Samen met Jeroen van Gaaf bloembinder gaan we dit keer een mooi paas stuk maken. \nKeuze uit: \nPaasei maar dan anders \n \nPaasnest taart \n \nDe workshops worden gegeven op\nmaandag                   7    april\nDinsdag                     8    april\nWoensdag                9    april \nMaximaal 15  personen  per avond \, je mag 1 intro meenemen. \nKosten\nDe kosten bedragen €  28\,00 inclusief materiaal – kopje koffie met wat lekkers.\nDenk eraan dat je een eigen snoeischaar of mesje meeneemt. \nAanvang \nDe avonden beginnen om 19.00 uur. \nAdres\nGaaf bloembinder\nMeddosestraat  18\n7101 CW Winterswijk \nInschrijving\nVanaf maandag  17 maart. vanaf 09.00 uur tot maandag 28 maart 17.00 uur. \nZijn de avonden vol\, stuur een mail naar a.g.meekes@skbwinterswijk.nl
URL:https://pv-vitalis.nl/evenement/paas-workshop-7-april-2025/
LOCATION:Gaaf bloembinder\, Meddosestraat 18\, Winterswijk\, 7101CW
ORGANIZER;CN="Annette Meekes":MAILTO:A.G.Meekes@skbwinterswijk.nl
END:VEVENT
BEGIN:VEVENT
DTSTART;TZID=Europe/Amsterdam:20250408T190000
DTEND;TZID=Europe/Amsterdam:20250408T220000
DTSTAMP:20260419T140803
CREATED:20250313T120615Z
LAST-MODIFIED:20250317T080418Z
UID:10000199-1744138800-1744149600@pv-vitalis.nl
SUMMARY:Paas workshop 8 april 2025
DESCRIPTION:Samen met Jeroen van Gaaf bloembinder gaan we dit keer een mooi paas stuk maken. \nKeuze uit: \nPaasei maar dan anders \n \nPaasnest taart \n \nDe workshops worden gegeven op\nmaandag                   7    april\nDinsdag                     8    april\nWoensdag                9    april \nMaximaal 15  personen  per avond \, je mag 1 intro meenemen. \nKosten\nDe kosten bedragen €  28\,00 inclusief materiaal – kopje koffie met wat lekkers.\nDenk eraan dat je een eigen snoeischaar of mesje meeneemt. \nAanvang \nDe avonden beginnen om 19.00 uur. \nAdres\nGaaf bloembinder\nMeddosestraat  18\n7101 CW Winterswijk \nInschrijving\nVanaf maandag  17 maart. vanaf 09.00 uur tot maandag 28 maart 17.00 uur. \nZijn de avonden vol\, stuur een mail naar a.g.meekes@skbwinterswijk.nl
URL:https://pv-vitalis.nl/evenement/paas-workshop-8-april-2025/
LOCATION:Gaaf bloembinder\, Meddosestraat 18\, Winterswijk\, 7101CW
ORGANIZER;CN="Annette Meekes":MAILTO:A.G.Meekes@skbwinterswijk.nl
END:VEVENT
BEGIN:VEVENT
DTSTART;TZID=Europe/Amsterdam:20250409T190000
DTEND;TZID=Europe/Amsterdam:20250409T220000
DTSTAMP:20260419T140803
CREATED:20250313T120837Z
LAST-MODIFIED:20250317T080229Z
UID:10000200-1744225200-1744236000@pv-vitalis.nl
SUMMARY:Paas workshop 9 april 2025
DESCRIPTION:Samen met Jeroen van Gaaf bloembinder gaan we dit keer een mooi paas stuk maken. \nKeuze uit: \nPaasei maar dan anders \n \nPaasnest taart \n \nDe workshops worden gegeven op\nmaandag                   7    april\nDinsdag                     8    april\nWoensdag                9    april \nMaximaal 15  personen  per avond \, je mag 1 intro meenemen. \nKosten\nDe kosten bedragen €  28\,00 inclusief materiaal – kopje koffie met wat lekkers.\nDenk eraan dat je een eigen snoeischaar of mesje meeneemt. \nAanvang \nDe avonden beginnen om 19.00 uur. \nAdres\nGaaf bloembinder\nMeddosestraat  18\n7101 CW Winterswijk \nInschrijving\nVanaf maandag  17 maart. vanaf 09.00 uur tot maandag 28 maart 17.00 uur. \nZijn de avonden vol\, stuur een mail naar a.g.meekes@skbwinterswijk.nl
URL:https://pv-vitalis.nl/evenement/paas-workshop-9-april-2025/
LOCATION:Gaaf bloembinder\, Meddosestraat 18\, Winterswijk\, 7101CW
ORGANIZER;CN="Annette Meekes":MAILTO:A.G.Meekes@skbwinterswijk.nl
END:VEVENT
BEGIN:VEVENT
DTSTART;TZID=Europe/Amsterdam:20250413T143000
DTEND;TZID=Europe/Amsterdam:20250413T200000
DTSTAMP:20260419T140803
CREATED:20250313T121556Z
LAST-MODIFIED:20250313T121556Z
UID:10000201-1744554600-1744574400@pv-vitalis.nl
SUMMARY:Pubquiz
DESCRIPTION:PV Vitalis\norganiseert zondag 13 April voor haar leden een\nPub quiz met Tapas!\nIn Rockcafé Taste in Groenlo \nDenk je alles te weten over Nederland te weten? En weet je bijvoorbeeld ook welk land een vierkante vlag heeft…of hoeveel wenkbrauwen Bert en Ernie samen hebben? Een pub quiz heeft niets te maken met je IQ\, maar alles met het vermogen om het juiste antwoord op  “weetjes “uit het geheugen naar boven te halen. Daarom staat de Pub quiz garant voor een paar uur plezier voor jong en oud en op elk niveau. Iedere ronde bevat verschillende vragen\, algemene vragen\, grappige vragen\, muziekronden\, plaatjes ronden\, er kan van alles voorbij komen.\nDe “oh ja” momenten vliegen om de oren. \nWe gaan beginnen met een drankje daarna starten we met de quiz..\n2 x over 4 ronden pub quiz\, tussen door kunnen we genieten van heerlijke tapas.\nHet winnende team krijgt \, behalve eeuwige roem\, een aardige attentie van Taste \nEr kunnen maximaal 36 personen deelnemen\, je mag 1 intro meenemen \nWaar:                        Rockcafé Taste        Lievelderweg 41  Groenlo\nTijd:                           Vanaf 14.30u inloop en vanaf 15.00 uur start van de quiz.\nInschrijving:            vanaf 24 maart tm 10 April\nKosten quiz :          €17\,50 pp dat is inclusief tapas en 2 consumptie munten.
URL:https://pv-vitalis.nl/evenement/pubquiz/
LOCATION:Rockcafé Taste\, Lievelderstraat 41\, Groenlo\, Gelderland\, 7141 BK\, Netherlands
ORGANIZER;CN="Annette Meekes":MAILTO:A.G.Meekes@skbwinterswijk.nl
END:VEVENT
BEGIN:VEVENT
DTSTART;TZID=Europe/Amsterdam:20250424T150000
DTEND;TZID=Europe/Amsterdam:20250424T173000
DTSTAMP:20260419T140803
CREATED:20250219T104334Z
LAST-MODIFIED:20250225T143245Z
UID:10000196-1745506800-1745515800@pv-vitalis.nl
SUMMARY:High Tea bij Bertram in Bredevoort
DESCRIPTION:  \n \nOp 24 april 2025 organiseert de personeelsvereniging voor alle leden in samenwerking met Bertram  een High Tea. Zoet\, hartig en gezellig! Het alternatief op de bekende High Tea uit Engeland in hun eigen Bertram Versie! \n \nWanneer; 24 april 2025\nHoe laat; 15:00 tot 17:30 uur\nWaar; restaurant Bertram\n’t Zand 1\n7126 BE Bredevoort \nOpgeven: via de site www.pv-vitalis vanaf 24 maart tot en met 6 april. Maximaal 70 personen; per personeelslid mag je 1 introducé meenemen\nKosten: 19 euro per persoon. \nNeem je ticket geprint of digitaal mee naar de High Tea zodat het ticket ID gecontroleerd kan worden. \nVia de inschrijving op de site kun je dieetwensen doorgeven en of je graag met een groepje bij elkaar wil zitten.
URL:https://pv-vitalis.nl/evenement/high-tea-bij-bertram-in-bredevoort/
LOCATION:Bertram\, 't Zand 1\, Bredevoort\, 7126 BE\, Netherlands
ORGANIZER;CN="Merlin Reinders":MAILTO:M.Reinders@skbwinterswijk.nl
END:VEVENT
END:VCALENDAR