BEGIN:VCALENDAR
VERSION:2.0
PRODID:-//Vitalis - ECPv6.15.20//NONSGML v1.0//EN
CALSCALE:GREGORIAN
METHOD:PUBLISH
X-WR-CALNAME:Vitalis
X-ORIGINAL-URL:https://pv-vitalis.nl
X-WR-CALDESC:Evenementen voor Vitalis
REFRESH-INTERVAL;VALUE=DURATION:PT1H
X-Robots-Tag:noindex
X-PUBLISHED-TTL:PT1H
BEGIN:VTIMEZONE
TZID:Europe/Amsterdam
BEGIN:DAYLIGHT
TZOFFSETFROM:+0100
TZOFFSETTO:+0200
TZNAME:CEST
DTSTART:20230326T010000
END:DAYLIGHT
BEGIN:STANDARD
TZOFFSETFROM:+0200
TZOFFSETTO:+0100
TZNAME:CET
DTSTART:20231029T010000
END:STANDARD
BEGIN:DAYLIGHT
TZOFFSETFROM:+0100
TZOFFSETTO:+0200
TZNAME:CEST
DTSTART:20240331T010000
END:DAYLIGHT
BEGIN:STANDARD
TZOFFSETFROM:+0200
TZOFFSETTO:+0100
TZNAME:CET
DTSTART:20241027T010000
END:STANDARD
BEGIN:DAYLIGHT
TZOFFSETFROM:+0100
TZOFFSETTO:+0200
TZNAME:CEST
DTSTART:20250330T010000
END:DAYLIGHT
BEGIN:STANDARD
TZOFFSETFROM:+0200
TZOFFSETTO:+0100
TZNAME:CET
DTSTART:20251026T010000
END:STANDARD
END:VTIMEZONE
BEGIN:VEVENT
DTSTART;TZID=Europe/Amsterdam:20241018T090000
DTEND;TZID=Europe/Amsterdam:20241018T180000
DTSTAMP:20260419T140704
CREATED:20240819T084058Z
LAST-MODIFIED:20240928T153429Z
UID:10000178-1729242000-1729274400@pv-vitalis.nl
SUMMARY:Dagtocht Nijmegen
DESCRIPTION:De personeelsvereniging Vitalis organiseert voor haar leden een dagtocht naar\nNijmegen \n \nBij aankomst genieten we eerst\, rond 10.30u\, van een kop koffie met gebak in De Hemel gevestigd in de Commanderie van St. Jan\, een middeleeuws kloosterpand in het centrum van Nijmegen.\nNa de koffie heeft u nog een hele middag om vrij te besteden.\nWanneer : Vrijdag 18 Oktober \nKosten: € 10\,00 per persoon. Eén introducé is toegestaan. \nVertrek : vanaf SKB om 9:00uur\nVertrek uit Nijmegen om 18 uur \nInschrijving: Vanaf Maandag 9 september t/m 27 september 2024
URL:https://pv-vitalis.nl/evenement/dagtocht-nijmegen/
ORGANIZER;CN="Linda Meijnen":MAILTO:l.meijnen@skbwinterswijk.nl
END:VEVENT
END:VCALENDAR