BEGIN:VCALENDAR
VERSION:2.0
PRODID:-//Vitalis - ECPv6.15.20//NONSGML v1.0//EN
CALSCALE:GREGORIAN
METHOD:PUBLISH
X-WR-CALNAME:Vitalis
X-ORIGINAL-URL:https://pv-vitalis.nl
X-WR-CALDESC:Evenementen voor Vitalis
REFRESH-INTERVAL;VALUE=DURATION:PT1H
X-Robots-Tag:noindex
X-PUBLISHED-TTL:PT1H
BEGIN:VTIMEZONE
TZID:Europe/Amsterdam
BEGIN:DAYLIGHT
TZOFFSETFROM:+0100
TZOFFSETTO:+0200
TZNAME:CEST
DTSTART:20230326T010000
END:DAYLIGHT
BEGIN:STANDARD
TZOFFSETFROM:+0200
TZOFFSETTO:+0100
TZNAME:CET
DTSTART:20231029T010000
END:STANDARD
BEGIN:DAYLIGHT
TZOFFSETFROM:+0100
TZOFFSETTO:+0200
TZNAME:CEST
DTSTART:20240331T010000
END:DAYLIGHT
BEGIN:STANDARD
TZOFFSETFROM:+0200
TZOFFSETTO:+0100
TZNAME:CET
DTSTART:20241027T010000
END:STANDARD
BEGIN:DAYLIGHT
TZOFFSETFROM:+0100
TZOFFSETTO:+0200
TZNAME:CEST
DTSTART:20250330T010000
END:DAYLIGHT
BEGIN:STANDARD
TZOFFSETFROM:+0200
TZOFFSETTO:+0100
TZNAME:CET
DTSTART:20251026T010000
END:STANDARD
END:VTIMEZONE
BEGIN:VEVENT
DTSTART;TZID=Europe/Amsterdam:20240325T080000
DTEND;TZID=Europe/Amsterdam:20240411T080000
DTSTAMP:20260419T225537
CREATED:20240325T214010Z
LAST-MODIFIED:20240325T214904Z
UID:10000170-1711353600-1712822400@pv-vitalis.nl
SUMMARY:Belangrijk bericht
DESCRIPTION:Uitnodiging algemene ledenvergadering. \nGeniet je ook van de leuke Evenementen en activiteiten die PV Vitalis organiseert? En geniet je ook van de momenten om samen met je collega’s iets leuks te doen?\nKom dan naar de \nALV van PV Vitalis op dinsdag 16 april 2024\nom 19.00 in het personeelsrestaurant \nHet bestuur van de personeelsvereniging Vitalis nodigt je daarvoor van harte uit.\nEn wil je meepraten? Dan kan dat natuurlijk ook.\nMocht je plaats willen nemen in het bestuur om mee te werken bij het organiseren van evenementen?\nVraag naar meer informatie bij een van de bestuursleden. \nIndien je de jaarvergadering wilt bijwonen dan s.v.p. aanmelden via e-mail personeelsvereniging@skbwinterswijk.nl voor 10 april a.s. \n…….de koffie staat klaar! \nAgenda: \n\nOpening\nNotulen Algemene ledenvergadering 19-04-23\nMededelingen/ingekomen stukken\n\n\nContributieverhoging PV\n\n\nJaarverslag van de secretaris\nFinanciën: financieel jaarverslag 2023\nControle verslag accountant\nBestuurszaken\n\nAftredende en niet herkiesbaar: Saskia Velders\, Douwe Haandrikman\nHerkiesbaar: Karin Sanders\nElke drie jaar kunnen de bestuursleden aftreden en zich herkiesbaar stellen. \n\nWat verder ter tafel komt\nRondvraag\nSluiting\n\nMet vriendelijke groet\, \nKarin Sanders\,\nsecretaris PV-Vitalis
URL:https://pv-vitalis.nl/evenement/alv-pv-vitalis/
ATTACH;FMTTYPE=image/png:https://pv-vitalis.nl/wp-content/uploads/2021/11/logo-vitalis.png
END:VEVENT
BEGIN:VEVENT
DTSTART;TZID=Europe/Amsterdam:20240416T150000
DTEND;TZID=Europe/Amsterdam:20240416T173000
DTSTAMP:20260419T225537
CREATED:20240303T113702Z
LAST-MODIFIED:20240315T142627Z
UID:10000168-1713279600-1713288600@pv-vitalis.nl
SUMMARY:High Tea
DESCRIPTION:Op 16 april organiseert de personeelsvereniging voor alle leden in samenwerking  een High Tea.\nGeniet gedurende 2\,5 uur van de huisgemaakte zoete en hartige lekkernijen bij Bijzonder Gewoon. \n \nDieetwensen? Neem contact op de organisator voor 31 maart. \n\n\n\nDatum:\nDinsdag 16-04-24\n\n\nTijd:\n15.00-17.30\n\n\nPrijs:\n€ 14\,00\n\n\nInschrijven:\n08-03-2024 t/m 31-03-2024\n\n\nAantal:\n70\, 1 introducee per lid toegestaan\n\n\nLocatie:\nBijzonder Gewoon\n\n\n\nNeem je ticket\, geprint of digitaal\, mee naar de high tea.
URL:https://pv-vitalis.nl/evenement/high-tea/
LOCATION:Bijzonder Gewoon\, Bossesteeg 4\, Winterswijk\, 7101GE
ATTACH;FMTTYPE=image/png:https://pv-vitalis.nl/wp-content/uploads/2024/03/Bijzonder-Gewoon.png
ORGANIZER;CN="Linda Meijnen":MAILTO:l.meijnen@skbwinterswijk.nl
END:VEVENT
BEGIN:VEVENT
DTSTART;TZID=Europe/Amsterdam:20240418T200000
DTEND;TZID=Europe/Amsterdam:20240418T200000
DTSTAMP:20260419T225537
CREATED:20240213T200444Z
LAST-MODIFIED:20240213T200444Z
UID:10000161-1713470400-1713470400@pv-vitalis.nl
SUMMARY:Intern Bowlingbal toernooi 2024
DESCRIPTION:De p.v. Vitalis organiseert op donderdag 18 april en vrijdag 19 april voor haar leden een interne bowlingcompetitie\, waarbij de onderlinge afdelingen of combinatie van afdelingen gaan strijden om de eer wie zich de beste bowler(ster) en wie het beste bowlingteam van het SKB heeft. \nVoor de winnaars zijn er mooie prijzen\, waaronder ook een beker voor de beste bowler en bowlster en voor het beste team van die avond en ook een overal klassement van alle avonden.\nEr zijn 5 bowlingbanen beschikbaar en per baan/team kunnen zich 8 personen opgeven. Dat betekent dus\, dat er zich max 5 teams per avond kunnen inschrijven! \nDe  personeelsvereniging Vitalis zal zorgen voor een hapje en een drankje. \nInschrijven als team vanaf maandag 26 februari  a.s. bij de centrale receptie via een inschrijfformulier\, waarbij je de teamnaam\, afdeling(en) en namen per team vermeld! \nAan het eind van de avond prijsuitreiking. \n\n\n\nDatum:\ndonderdag 18 en vrijdag 19 april\n\n\nTijd:\n20.00\, inloop vanaf 19.30\n\n\nPrijs:\ngratis\n\n\nAanmelden:\n26-02-2023 tot 25-03-2023\, opgeven middels inschrijflijst bij de receptie\n\n\nAantal:\nonbeperkt\n\n\nLocatie:\nKartbaan Winterswijk\n\n\n\nBij vragen kun je terecht bij de organisatoren
URL:https://pv-vitalis.nl/evenement/intern-bowlingbal-toernooi-2024/
LOCATION:Kartbaan Winterswijk\, Tinbergenstraat 3\, Winterswijk\, 7102JK
ATTACH;FMTTYPE=image/png:https://pv-vitalis.nl/wp-content/uploads/2022/07/Bowlen.png
ORGANIZER;CN="Roel Bulthuis":MAILTO:R.Bulthuis@skbwinterswijk.nl
END:VEVENT
BEGIN:VEVENT
DTSTART;TZID=Europe/Amsterdam:20240425T200000
DTEND;TZID=Europe/Amsterdam:20240425T223000
DTSTAMP:20260419T225537
CREATED:20240410T214317Z
LAST-MODIFIED:20240410T214317Z
UID:10000172-1714075200-1714084200@pv-vitalis.nl
SUMMARY:Schiet nieuws 2024
DESCRIPTION:
URL:https://pv-vitalis.nl/evenement/schiet-nieuws-2024/
ATTACH;FMTTYPE=image/jpeg:https://pv-vitalis.nl/wp-content/uploads/2024/04/Geweer.jpg
END:VEVENT
END:VCALENDAR