BEGIN:VCALENDAR
VERSION:2.0
PRODID:-//Vitalis - ECPv6.15.20//NONSGML v1.0//EN
CALSCALE:GREGORIAN
METHOD:PUBLISH
X-ORIGINAL-URL:https://pv-vitalis.nl
X-WR-CALDESC:Evenementen voor Vitalis
REFRESH-INTERVAL;VALUE=DURATION:PT1H
X-Robots-Tag:noindex
X-PUBLISHED-TTL:PT1H
BEGIN:VTIMEZONE
TZID:Europe/Amsterdam
BEGIN:DAYLIGHT
TZOFFSETFROM:+0100
TZOFFSETTO:+0200
TZNAME:CEST
DTSTART:20220327T010000
END:DAYLIGHT
BEGIN:STANDARD
TZOFFSETFROM:+0200
TZOFFSETTO:+0100
TZNAME:CET
DTSTART:20221030T010000
END:STANDARD
BEGIN:DAYLIGHT
TZOFFSETFROM:+0100
TZOFFSETTO:+0200
TZNAME:CEST
DTSTART:20230326T010000
END:DAYLIGHT
BEGIN:STANDARD
TZOFFSETFROM:+0200
TZOFFSETTO:+0100
TZNAME:CET
DTSTART:20231029T010000
END:STANDARD
BEGIN:DAYLIGHT
TZOFFSETFROM:+0100
TZOFFSETTO:+0200
TZNAME:CEST
DTSTART:20240331T010000
END:DAYLIGHT
BEGIN:STANDARD
TZOFFSETFROM:+0200
TZOFFSETTO:+0100
TZNAME:CET
DTSTART:20241027T010000
END:STANDARD
END:VTIMEZONE
BEGIN:VEVENT
DTSTART;TZID=Europe/Amsterdam:20231205T193000
DTEND;TZID=Europe/Amsterdam:20231205T220000
DTSTAMP:20260420T073929
CREATED:20231107T164730Z
LAST-MODIFIED:20231108T152147Z
UID:10000153-1701804600-1701813600@pv-vitalis.nl
SUMMARY:Kerst workshop (5-12-2023)
DESCRIPTION:Kerst-Workshop\nWe gaan naar Gaaf bloembinder om een mooi kerststuk te maken.\nJe hebt de keuze uit een krans (met lichtjes) en een tafelstuk.\n  \nDe keuze voor een krans of een tafelstuk geef je aan tijdens het bestellen van de ticket(s). \nDe workshops worden gegeven op:\ndinsdag 5 december\, woensdag 6 december\, maandag 11 december en dinsdag 12 december \n\n\n\nDatum:\n4 keer\, dinsdag 5 december (6-12\, 11-12\, 12-12)\n\n\nTijd:\n19.30\n\n\nPrijs:\n€ 28\,00\, inclusief materiaal en kopje koffie/thee\n\n\nInschrijven:\n13-11-2022\, 09.00 uur t/m 20-11-2022\, 17.00 uur\, maximaal 2 tickets p.p. inclusief 1 introducee\n\n\nAantal:\nmaximaal 25 personen per keer\n\n\nLocatie:\nGaaf bloembinder\, Meddosestraat 18\, 7101CW Winterswijk\n\n\n\nWel een eigen mesje of snoeischaar meenemen. \nZijn de avonden vol\, stuur een mail naar de organisator.
URL:https://pv-vitalis.nl/evenement/kerst-workshop-5-12-2023/
LOCATION:Gaaf bloembinder\, Meddosestraat 18\, Winterswijk\, 7101CW
ATTACH;FMTTYPE=image/png:https://pv-vitalis.nl/wp-content/uploads/2023/03/paasworkshop2023.png
ORGANIZER;CN="Annette Meekes":MAILTO:A.G.Meekes@skbwinterswijk.nl
END:VEVENT
BEGIN:VEVENT
DTSTART;TZID=Europe/Amsterdam:20231206T193000
DTEND;TZID=Europe/Amsterdam:20231206T220000
DTSTAMP:20260420T073929
CREATED:20231107T164746Z
LAST-MODIFIED:20231108T152400Z
UID:10000154-1701891000-1701900000@pv-vitalis.nl
SUMMARY:Kerst workshop (6-12-2023)
DESCRIPTION:Kerst-Workshop\nWe gaan naar Gaaf bloembinder om een mooi kerststuk te maken.\nJe hebt de keuze uit een krans (met lichtjes) en een tafelstuk.\n  \nDe keuze voor een krans of een tafelstuk geef je aan tijdens het bestellen van de ticket(s). \nDe workshops worden gegeven op:\ndinsdag 5 december\, woensdag 6 december\, maandag 11 december en dinsdag 12 december \n\n\n\nDatum:\n4 keer\, (5-12) woensdag 6 december (11-12\, 12-12)\n\n\nTijd:\n19.30\n\n\nPrijs:\n€ 28\,00\, inclusief materiaal en kopje koffie/thee\n\n\nInschrijven:\n13-11-2022\, 09.00 uur t/m 20-11-2022\, 17.00 uur\, maximaal 2 tickets p.p. inclusief 1 introducee\n\n\nAantal:\nmaximaal 25 personen per keer\n\n\nLocatie:\nGaaf bloembinder\, Meddosestraat 18\, 7101CW Winterswijk\n\n\n\nWel een eigen mesje of snoeischaar meenemen. \nZijn de avonden vol\, stuur een mail naar de organisator.
URL:https://pv-vitalis.nl/evenement/kerst-workshop-6-12-2023/
LOCATION:Gaaf bloembinder\, Meddosestraat 18\, Winterswijk\, 7101CW
ATTACH;FMTTYPE=image/png:https://pv-vitalis.nl/wp-content/uploads/2023/03/paasworkshop2023.png
ORGANIZER;CN="Annette Meekes":MAILTO:A.G.Meekes@skbwinterswijk.nl
END:VEVENT
BEGIN:VEVENT
DTSTART;TZID=Europe/Amsterdam:20231208T183000
DTEND;TZID=Europe/Amsterdam:20231208T230000
DTSTAMP:20260420T073929
CREATED:20230503T071216Z
LAST-MODIFIED:20230515T105248Z
UID:10000140-1702060200-1702076400@pv-vitalis.nl
SUMMARY:De Komedie over een bankoverval
DESCRIPTION:PV Vitalis organiseert voor haar leden : een compleet avondje uit bij theater de Storm. \nInclusief:\n– Tapas buffet\, inclusief 3 drankjes\n– Voorstelling ”De Komedie over een bankoverval”\, (Kijk voor de trailer hier)\n– Pauzedrankje \n \nWanneer: Vrijdagavond 8 dec.\n(Aanvang buffet 18.30 uur aanvang voorstelling 20.15 uur) \nAantal deelnemers: Max 100 (1 introducé toegestaan) \nInschrijven via de website pv-vitalis.nl vanaf 15 mei tm 28 mei 2023 \nKosten: €55.- per persoon ( betalen bij inschrijven) \nOrganisatie:\nRoel Bulthuis R.Bulthuis@skbwinterswijk.nl\nSaskia Velders S.velders@skbwinterswijk.nl \n 
URL:https://pv-vitalis.nl/evenement/de-komedie-over-een-bankoverval/
LOCATION:Theater De Storm\, Haitsma Mulierweg 11\, Winterswijk\, Gelderland\, 7101 BX\, Nederland
ATTACH;FMTTYPE=image/png:https://pv-vitalis.nl/wp-content/uploads/2023/05/bankoverval-e1684148110368.png
ORGANIZER;CN="Saskia Velders":MAILTO:S.Velders@skbwinterswijk.nl
END:VEVENT
BEGIN:VEVENT
DTSTART;TZID=Europe/Amsterdam:20231211T193000
DTEND;TZID=Europe/Amsterdam:20231211T220000
DTSTAMP:20260420T073929
CREATED:20231107T164801Z
LAST-MODIFIED:20231108T152446Z
UID:10000155-1702323000-1702332000@pv-vitalis.nl
SUMMARY:Kerst workshop (11-12-2023)
DESCRIPTION:Kerst-Workshop\nWe gaan naar Gaaf bloembinder om een mooi kerststuk te maken.\nJe hebt de keuze uit een krans (met lichtjes) en een tafelstuk.\n  \nDe keuze voor een krans of een tafelstuk geef je aan tijdens het bestellen van de ticket(s). \nDe workshops worden gegeven op:\ndinsdag 5 december\, woensdag 6 december\, maandag 11 december en dinsdag 12 december \n\n\n\nDatum:\n4 keer\, (5-12\, 6-12) maandag 11 december (12-12)\n\n\nTijd:\n19.30\n\n\nPrijs:\n€ 28\,00\, inclusief materiaal en kopje koffie/thee\n\n\nInschrijven:\n13-11-2022\, 09.00 uur t/m 20-11-2022\, 17.00 uur\, maximaal 2 tickets p.p. inclusief 1 introducee\n\n\nAantal:\nmaximaal 25 personen per keer\n\n\nLocatie:\nGaaf bloembinder\, Meddosestraat 18\, 7101CW Winterswijk\n\n\n\nWel een eigen mesje of snoeischaar meenemen. \nZijn de avonden vol\, stuur een mail naar de organisator.
URL:https://pv-vitalis.nl/evenement/kerst-workshop-11-12-2023/
LOCATION:Gaaf bloembinder\, Meddosestraat 18\, Winterswijk\, 7101CW
ATTACH;FMTTYPE=image/png:https://pv-vitalis.nl/wp-content/uploads/2023/03/paasworkshop2023.png
ORGANIZER;CN="Annette Meekes":MAILTO:A.G.Meekes@skbwinterswijk.nl
END:VEVENT
BEGIN:VEVENT
DTSTART;TZID=Europe/Amsterdam:20231212T193000
DTEND;TZID=Europe/Amsterdam:20231212T220000
DTSTAMP:20260420T073929
CREATED:20231107T164814Z
LAST-MODIFIED:20231108T152532Z
UID:10000156-1702409400-1702418400@pv-vitalis.nl
SUMMARY:Kerst workshop (12-12-2023)
DESCRIPTION:Kerst-Workshop\nWe gaan naar Gaaf bloembinder om een mooi kerststuk te maken.\nJe hebt de keuze uit een krans (met lichtjes) en een tafelstuk.\n  \nDe keuze voor een krans of een tafelstuk geef je aan tijdens het bestellen van de ticket(s). \nDe workshops worden gegeven op:\ndinsdag 5 december\, woensdag 6 december\, maandag 11 december en dinsdag 12 december \n\n\n\nDatum:\n4 keer\, (5-12\, 6-12\, 11-12) dinsdag 12 december \n\n\nTijd:\n19.30\n\n\nPrijs:\n€ 28\,00\, inclusief materiaal en kopje koffie/thee\n\n\nInschrijven:\n13-11-2022\, 09.00 uur t/m 20-11-2022\, 17.00 uur\, maximaal 2 tickets p.p. inclusief 1 introducee\n\n\nAantal:\nmaximaal 25 personen per keer\n\n\nLocatie:\nGaaf bloembinder\, Meddosestraat 18\, 7101CW Winterswijk\n\n\n\nWel een eigen mesje of snoeischaar meenemen. \nZijn de avonden vol\, stuur een mail naar de organisator.
URL:https://pv-vitalis.nl/evenement/kerst-workshop-12-12-2023/
LOCATION:Gaaf bloembinder\, Meddosestraat 18\, Winterswijk\, 7101CW
ATTACH;FMTTYPE=image/png:https://pv-vitalis.nl/wp-content/uploads/2023/03/paasworkshop2023.png
ORGANIZER;CN="Annette Meekes":MAILTO:A.G.Meekes@skbwinterswijk.nl
END:VEVENT
BEGIN:VEVENT
DTSTART;TZID=Europe/Amsterdam:20231215T200000
DTEND;TZID=Europe/Amsterdam:20231215T200000
DTSTAMP:20260420T073929
CREATED:20231019T093055Z
LAST-MODIFIED:20231019T093055Z
UID:10000151-1702670400-1702670400@pv-vitalis.nl
SUMMARY:Oudejaarsborrel 2023
DESCRIPTION:Vrijdag 15 december \nis er weer een  \ngezellige Oudejaarsborrel voor alle PV leden \nde muziek wordt verzorgd \n \nCABRIO \nEen veelzijdige repertoire\, 5 energieke ras muzikanten verpakt in een wervelende show. Dan hebben we het over CABRIO.\nMet de combinatie van recente top 40 nummers\, Hollandse dijenkletsers\, opzwepende medleys\, jouw favoriete rocksong of de echte feesttent kneiters…. Ze spelen ze allemaal in rap tempo achter elkaar. Als je eenmaal bij Cabrio bent geweest\, dan zul je beamen….. deze band speelt écht in op het publiek. Ze vermaken het publiek en ze genieten zelf zichtbaar mee… \n\n\n\nDatum:\nvrijdag 15 december\n\n\nTijd:\n20.00-24.00\n\n\nPrijs:\n€ 10\,00\n\n\nAanmelden:\n13-11-2023 t/m 04-12-2023\n\n\nAantal:\niedereen die lid is van de PV\n\n\nLocatie:\nVerenigingsgebouw Wilhelmina\, Meester Meinenweg 1\, 7107AN Winterswijk Kotten\n\n\n\nNeem je ticket mee\, zonder ticket geen toegang!
URL:https://pv-vitalis.nl/evenement/oudejaarsborrel-2023/
LOCATION:Verenigingsgebouw Wilhelmina\, Meester Meinenweg 1\, Winterswijk Kotten\, 7107AN
ATTACH;FMTTYPE=image/jpeg:https://pv-vitalis.nl/wp-content/uploads/2022/11/Champagne.jpg
ORGANIZER;CN="Annette Meekes":MAILTO:A.G.Meekes@skbwinterswijk.nl
END:VEVENT
END:VCALENDAR