BEGIN:VCALENDAR
VERSION:2.0
PRODID:-//Vitalis - ECPv6.15.20//NONSGML v1.0//EN
CALSCALE:GREGORIAN
METHOD:PUBLISH
X-ORIGINAL-URL:https://pv-vitalis.nl
X-WR-CALDESC:Evenementen voor Vitalis
REFRESH-INTERVAL;VALUE=DURATION:PT1H
X-Robots-Tag:noindex
X-PUBLISHED-TTL:PT1H
BEGIN:VTIMEZONE
TZID:Europe/Amsterdam
BEGIN:DAYLIGHT
TZOFFSETFROM:+0100
TZOFFSETTO:+0200
TZNAME:CEST
DTSTART:20210328T010000
END:DAYLIGHT
BEGIN:STANDARD
TZOFFSETFROM:+0200
TZOFFSETTO:+0100
TZNAME:CET
DTSTART:20211031T010000
END:STANDARD
BEGIN:DAYLIGHT
TZOFFSETFROM:+0100
TZOFFSETTO:+0200
TZNAME:CEST
DTSTART:20220327T010000
END:DAYLIGHT
BEGIN:STANDARD
TZOFFSETFROM:+0200
TZOFFSETTO:+0100
TZNAME:CET
DTSTART:20221030T010000
END:STANDARD
BEGIN:DAYLIGHT
TZOFFSETFROM:+0100
TZOFFSETTO:+0200
TZNAME:CEST
DTSTART:20230326T010000
END:DAYLIGHT
BEGIN:STANDARD
TZOFFSETFROM:+0200
TZOFFSETTO:+0100
TZNAME:CET
DTSTART:20231029T010000
END:STANDARD
END:VTIMEZONE
BEGIN:VEVENT
DTSTART;VALUE=DATE:20221001
DTEND;VALUE=DATE:20230101
DTSTAMP:20260421T021853
CREATED:20220915T142132Z
LAST-MODIFIED:20220925T081910Z
UID:10000103-1664582400-1672531199@pv-vitalis.nl
SUMMARY:Bioscoopactie
DESCRIPTION:Ook dit najaar hebben we weer een bioscoopactie van Vitalis/Skopein. \nDeze actie loopt van 1 okt tm 31 dec 2022. \nDe opzet: \n\nVitalisleden kunnen filmkaarten bestellen a € 8\,00 per kaart\, deze kaarten hebben een waarde van € 12\,00 per kaart. (Skopein en Vitalis geven elk een korting van € 2\,00.)\nMet deze “Filmkaarten” kunnen Vitalisleden in de maanden okt\, nov en dec naar de film. (De bioscoop mag geen korting geven op de film AVATAR deel 2\, de filmkaarten kunnen om die reden niet gebruikt worden voor deze film)\nLet wel:\nOp de kaart staat je personeelsnummer. De actie is bedoeld voor leden van de personeelsvereniging. Bij gebruik (ineens of in delen) moet de persoon aanwezig zijn met zijn/haar personeelspas.\nWanneer je reserveert via de site van Skopein\, geef dan bij afrekenen aan dat je bij de kassa wilt betalen.\nNiet gebruikte kaarten kunnen niet meer ingeleverd worden bij de personeelsvereniging.\n\n\n\n\nDatum:\nkaarten kunnen gebruikt worden  in de maanden oktober\, november\, december\n\n\nPrijs:\n€ 8\,00 per kaart\n\n\nInschrijven:\n16-09-2022 t/m 28-09-2022\, inschrijflijst bij de centrale receptie\n\n\n\nmaximaal 6 kaarten per lid\n\n\nKaarten ophalen:\nvanaf 1 oktober bij de centrale receptie\n\n\nBetaling:\nvia salaris\n\n\n\n 
URL:https://pv-vitalis.nl/evenement/bioscoopactie/
LOCATION:Skopein\, Meddosestraat 6-8\, 7101CV
ATTACH;FMTTYPE=image/png:https://pv-vitalis.nl/wp-content/uploads/2022/09/Skopein.png
ORGANIZER;CN="Ingrid Roessink":MAILTO:ingridroessink@gmail.com
END:VEVENT
BEGIN:VEVENT
DTSTART;TZID=Europe/Amsterdam:20221006T200000
DTEND;TZID=Europe/Amsterdam:20221006T230000
DTSTAMP:20260421T021853
CREATED:20220729T195147Z
LAST-MODIFIED:20220817T120310Z
UID:10000094-1665086400-1665097200@pv-vitalis.nl
SUMMARY:Intern Bowling toernooi 2022
DESCRIPTION:P.V. Vitalis organiseert voor haar leden een interne bowlingcompetitie\, waarbij de onderlinge afdelingen of combinatie van afdelingen gaan strijden om de eer wie zich de beste bowler(ster) en wie het beste bowlingteam van het SKB heeft. \nAansluitend de prijsuitreiking.\nVoor de winnaars zijn er mooie prijzen\, waaronder ook een beker voor de beste bowler en bowlster en voor het beste team van die avond en ook een overal klassement van alle avonden. \nEr zijn 5 bowlingbanen beschikbaar en per baan/team kunnen zich 8 personen opgeven. Dat betekent dus\, dat er zich max 5 teams per avond kunnen inschrijven! \nDe  personeelsvereniging Vitalis zal zorgen voor een hapje en een drankje. \n\n\n\nDatum:\ndonderdag 6 en vrijdag 7 oktober\n\n\nTijd:\ninloop 19.30 en start wedstrijden 20.00\n\n\nPrijs:\ngratis\n\n\nInschrijven:\n05-09-2022 t/m 26-09-2022\n\n\nInschrijven als team:\nvanaf 05-09-2022\n\n\n\nInschrijven bij de centrale receptie via een inschrijfformulier\, waarbij je de teamnaam\, afdeling(en) en namen per team vermeld! \nBij vragen gelieve contact opnemen met de organisator.
URL:https://pv-vitalis.nl/evenement/intern-bowling-toernooi-2022/2022-10-06/
LOCATION:Kartbaan Winterswijk\, Tinbergenstraat 3\, Winterswijk\, 7102JK
ATTACH;FMTTYPE=image/png:https://pv-vitalis.nl/wp-content/uploads/2022/07/Bowlen.png
ORGANIZER;CN="Roel Bulthuis":MAILTO:R.Bulthuis@skbwinterswijk.nl
END:VEVENT
BEGIN:VEVENT
DTSTART;TZID=Europe/Amsterdam:20221007T200000
DTEND;TZID=Europe/Amsterdam:20221007T230000
DTSTAMP:20260421T021853
CREATED:20220729T195147Z
LAST-MODIFIED:20220817T120310Z
UID:10000095-1665172800-1665183600@pv-vitalis.nl
SUMMARY:Intern Bowling toernooi 2022
DESCRIPTION:P.V. Vitalis organiseert voor haar leden een interne bowlingcompetitie\, waarbij de onderlinge afdelingen of combinatie van afdelingen gaan strijden om de eer wie zich de beste bowler(ster) en wie het beste bowlingteam van het SKB heeft. \nAansluitend de prijsuitreiking.\nVoor de winnaars zijn er mooie prijzen\, waaronder ook een beker voor de beste bowler en bowlster en voor het beste team van die avond en ook een overal klassement van alle avonden. \nEr zijn 5 bowlingbanen beschikbaar en per baan/team kunnen zich 8 personen opgeven. Dat betekent dus\, dat er zich max 5 teams per avond kunnen inschrijven! \nDe  personeelsvereniging Vitalis zal zorgen voor een hapje en een drankje. \n\n\n\nDatum:\ndonderdag 6 en vrijdag 7 oktober\n\n\nTijd:\ninloop 19.30 en start wedstrijden 20.00\n\n\nPrijs:\ngratis\n\n\nInschrijven:\n05-09-2022 t/m 26-09-2022\n\n\nInschrijven als team:\nvanaf 05-09-2022\n\n\n\nInschrijven bij de centrale receptie via een inschrijfformulier\, waarbij je de teamnaam\, afdeling(en) en namen per team vermeld! \nBij vragen gelieve contact opnemen met de organisator.
URL:https://pv-vitalis.nl/evenement/intern-bowling-toernooi-2022/2022-10-07/
LOCATION:Kartbaan Winterswijk\, Tinbergenstraat 3\, Winterswijk\, 7102JK
ATTACH;FMTTYPE=image/png:https://pv-vitalis.nl/wp-content/uploads/2022/07/Bowlen.png
ORGANIZER;CN="Roel Bulthuis":MAILTO:R.Bulthuis@skbwinterswijk.nl
END:VEVENT
BEGIN:VEVENT
DTSTART;TZID=Europe/Amsterdam:20221010T190000
DTEND;TZID=Europe/Amsterdam:20221010T223000
DTSTAMP:20260421T021853
CREATED:20220913T210914Z
LAST-MODIFIED:20220918T202337Z
UID:10000099-1665428400-1665441000@pv-vitalis.nl
SUMMARY:Bloemstuk maken (10 okt)
DESCRIPTION:Personeelsvereniging Vitalis organiseert voor haar leden ook dit jaar weer een Herfst Workshop. \nWe gaan dit keer een mooi najaars bloemstuk maken bij Gaaf bloembinder.\nJe kunt kiezen uit twee voorbeelden\, een langwerpig stuk ( tzt met ranken)  en een hoog stuk. \n \n  \n  \nDe voorbeelden komen op maandag 19 sept. vanaf 09.00 uur in de centrale hal te staan. \nDe keuze van liggend of staand model geef je aan tijdens het bestellen van de ticket(s). \n\n\n\nDatum:\n5 avonden\, maandag 10 oktober ( 11-10\, 12-10\, 13-10\, 17-10)\n\n\nTijd:\n19.00\n\n\nPrijs:\n€ 25\,00\, inclusief materiaal en kopje koffie/thee\n\n\nInschrijven:\n19-09-2022 t/m 03-10-2022\, maximaal 2 tickets p.p. inclusief 1 introducee\n\n\nAantal:\nmaximaal 14 personen per avond\n\n\n\n\n\n\n\nDenk eraan dat je een eigen snoeischaar en/of mesje meeneemt.
URL:https://pv-vitalis.nl/evenement/bloemstuk-maken-10-okt/
LOCATION:Gaaf bloembinder\, Meddosestraat 18\, Winterswijk\, 7101CW
ATTACH;FMTTYPE=image/jpeg:https://pv-vitalis.nl/wp-content/uploads/2022/09/Untitled-1.jpg
ORGANIZER;CN="Annette Meekes":MAILTO:A.G.Meekes@skbwinterswijk.nl
END:VEVENT
BEGIN:VEVENT
DTSTART;TZID=Europe/Amsterdam:20221011T190000
DTEND;TZID=Europe/Amsterdam:20221011T223000
DTSTAMP:20260421T021853
CREATED:20220913T210931Z
LAST-MODIFIED:20220918T195157Z
UID:10000100-1665514800-1665527400@pv-vitalis.nl
SUMMARY:Bloemstuk maken (11 okt)
DESCRIPTION:Personeelsvereniging Vitalis organiseert voor haar leden ook dit jaar weer een Herfst Workshop. \nWe gaan dit keer een mooi najaars bloemstuk maken bij Gaaf bloembinder.\nJe kunt kiezen uit twee voorbeelden\, een langwerpig stuk ( tzt met ranken)  en een hoog stuk. \n \n  \n  \nDe voorbeelden komen op maandag 19 sept. vanaf 09.00 uur in de centrale hal te staan. \nDe keuze van liggend of staand model geef je aan tijdens het bestellen van de ticket(s). \n\n\n\nDatum:\n5 avonden\, (10-10) dinsdag 11 oktober (12-10\, 13-10\, 17-10)\n\n\nTijd:\n19.00\n\n\nPrijs:\n€ 25\,00\, inclusief materiaal en kopje koffie/thee\n\n\nInschrijven:\n19-09-2022 t/m 03-10-2022\, maximaal 2 tickets p.p. inclusief 1 introducee\n\n\nAantal:\nmaximaal 14 personen per avond\n\n\n\n\n\n\n\nDenk eraan dat je een eigen snoeischaar en/of mesje meeneemt.
URL:https://pv-vitalis.nl/evenement/bloemstuk-maken-11-okt/
LOCATION:Gaaf bloembinder\, Meddosestraat 18\, Winterswijk\, 7101CW
ATTACH;FMTTYPE=image/jpeg:https://pv-vitalis.nl/wp-content/uploads/2022/09/Untitled-1.jpg
ORGANIZER;CN="Annette Meekes":MAILTO:A.G.Meekes@skbwinterswijk.nl
END:VEVENT
BEGIN:VEVENT
DTSTART;TZID=Europe/Amsterdam:20221012T190000
DTEND;TZID=Europe/Amsterdam:20221012T223000
DTSTAMP:20260421T021853
CREATED:20220913T210950Z
LAST-MODIFIED:20220918T195417Z
UID:10000101-1665601200-1665613800@pv-vitalis.nl
SUMMARY:Bloemstuk maken (12 okt)
DESCRIPTION:Personeelsvereniging Vitalis organiseert voor haar leden ook dit jaar weer een Herfst Workshop. \nWe gaan dit keer een mooi najaars bloemstuk maken bij Gaaf bloembinder.\nJe kunt kiezen uit twee voorbeelden\, een langwerpig stuk ( tzt met ranken)  en een hoog stuk. \n \n  \n  \nDe voorbeelden komen op maandag 19 sept. vanaf 09.00 uur in de centrale hal te staan. \nDe keuze van liggend of staand model geef je aan tijdens het bestellen van de ticket(s). \n\n\n\nDatum:\n5 avonden\, (10-10\, 11-10) woensdag 12 oktober (13-10\, 17-10)\n\n\nTijd:\n19.00\n\n\nPrijs:\n€ 25\,00\, inclusief materiaal en kopje koffie/thee\n\n\nInschrijven:\n19-09-2022 t/m 03-10-2022\, maximaal 2 tickets p.p. inclusief 1 introducee\n\n\nAantal:\nmaximaal 14 personen per avond\n\n\n\n\n\n\n\nDenk eraan dat je een eigen snoeischaar en/of mesje meeneemt.
URL:https://pv-vitalis.nl/evenement/bloemstuk-maken-12-okt/
LOCATION:Gaaf bloembinder\, Meddosestraat 18\, Winterswijk\, 7101CW
ATTACH;FMTTYPE=image/jpeg:https://pv-vitalis.nl/wp-content/uploads/2022/09/Untitled-1.jpg
ORGANIZER;CN="Annette Meekes":MAILTO:A.G.Meekes@skbwinterswijk.nl
END:VEVENT
BEGIN:VEVENT
DTSTART;TZID=Europe/Amsterdam:20221013T190000
DTEND;TZID=Europe/Amsterdam:20221013T223000
DTSTAMP:20260421T021853
CREATED:20220913T210852Z
LAST-MODIFIED:20220918T195604Z
UID:10000098-1665687600-1665700200@pv-vitalis.nl
SUMMARY:Bloemstuk maken (13 okt)
DESCRIPTION:Personeelsvereniging Vitalis organiseert voor haar leden ook dit jaar weer een Herfst Workshop. \nWe gaan dit keer een mooi najaars bloemstuk maken bij Gaaf bloembinder.\nJe kunt kiezen uit twee voorbeelden\, een langwerpig stuk ( tzt met ranken)  en een hoog stuk. \n \n  \n  \nDe voorbeelden komen op maandag 19 sept. vanaf 09.00 uur in de centrale hal te staan. \nDe keuze van liggend of staand model geef je aan tijdens het bestellen van de ticket(s). \n\n\n\nDatum:\n5 avonden\, (10-10\, 11-10\, 12-10) donderdag 13 oktober (17-10)\n\n\nTijd:\n19.00\n\n\nPrijs:\n€ 25\,00\, inclusief materiaal en kopje koffie/thee\n\n\nInschrijven:\n19-09-2022 t/m 03-10-2022\, maximaal 2 tickets p.p. inclusief 1 introducee\n\n\nAantal:\nmaximaal 14 personen per avond\n\n\n\n\n\n\n\nDenk eraan dat je een eigen snoeischaar en/of mesje meeneemt.
URL:https://pv-vitalis.nl/evenement/bloemstuk-maken-13-okt/
LOCATION:Gaaf bloembinder\, Meddosestraat 18\, Winterswijk\, 7101CW
ATTACH;FMTTYPE=image/jpeg:https://pv-vitalis.nl/wp-content/uploads/2022/09/Untitled-1.jpg
ORGANIZER;CN="Annette Meekes":MAILTO:A.G.Meekes@skbwinterswijk.nl
END:VEVENT
BEGIN:VEVENT
DTSTART;TZID=Europe/Amsterdam:20221015T143000
DTEND;TZID=Europe/Amsterdam:20221015T143000
DTSTAMP:20260421T021853
CREATED:20220408T130315Z
LAST-MODIFIED:20220817T064027Z
UID:10000087-1665844200-1665844200@pv-vitalis.nl
SUMMARY:Prison Escape
DESCRIPTION:Spectaculaire Prison Escape belevenis\, een uitzonderlijke groepsactiviteit! \nPrison Escape is een Real Life Game waarbij je in de schoenen staat van een gevangene. Je wordt opgesloten in de Kruisberg gevangenis in Doetinchem met één doel  ONTSNAPPEN! Je krijgt het gevoel dat je een echte gevangene bent.\nZe hebben de leegstaande Kruisberg gevangenis omgetoverd tot een werkende gevangenis waarin bewakers en camera’s je vanuit alle hoeken in de gaten houden. Zodra je deze harde wereld betreedt laat je jouw vertrouwde leventje achter en verander je in niets dan een nummer.\nPrison Escape is een 3 uur durende real life game waarbij het jouw doel is om te ontsnappen uit een zwaarbeveiligde gevangenis.\nGedurende drie uur zullen jullie je in een wereld begeven waarin meer dan 25 acteurs ervoor zorgen dat alle deelnemers betrokken raken en opgaan in het leven van een echte gevangene! Jullie zullen elkaar\, maar vooral jezelf\, opnieuw leren kennen. Je weet nooit wie je kan vertrouwen. \nDe ervaring begint bij Schouwburgplein 224\, 7001 DJ Doetinchem\, niet bij de gevangenis zelf. Vanaf hier worden we gevangen genomen en vervoerd naar de gevangenis. Na afloop word je hier teruggebracht. \n\n\n\nDatum:\n15-10-2022\n\n\nTijd:\n14.30\n\n\nVertrek bus bij SKB:\n13.30\n\n\nPrijs:\n€55\n\n\nInschrijven:\n19-04-2022 t/m 03-05-2022\n\n\nAantal:\nmax 2 kaarten p.p.\, incl 1 introducee\n\n\n\nBij vragen gelieve contact opnemen met de organisator.
URL:https://pv-vitalis.nl/evenement/prison-escape/
LOCATION:Prison Escape\, Schouwburgplein 224\, Doetinchem\, 7001DJ
ATTACH;FMTTYPE=image/png:https://pv-vitalis.nl/wp-content/uploads/2022/04/Prison-Escape-1022.png
ORGANIZER;CN="Annette Meekes":MAILTO:A.G.Meekes@skbwinterswijk.nl
END:VEVENT
BEGIN:VEVENT
DTSTART;TZID=Europe/Amsterdam:20221017T190000
DTEND;TZID=Europe/Amsterdam:20221017T223000
DTSTAMP:20260421T021853
CREATED:20220913T211006Z
LAST-MODIFIED:20220918T195805Z
UID:10000102-1666033200-1666045800@pv-vitalis.nl
SUMMARY:Bloemstuk maken (17 okt)
DESCRIPTION:Personeelsvereniging Vitalis organiseert voor haar leden ook dit jaar weer een Herfst Workshop. \nWe gaan dit keer een mooi najaars bloemstuk maken bij Gaaf bloembinder.\nJe kunt kiezen uit twee voorbeelden\, een langwerpig stuk ( tzt met ranken)  en een hoog stuk. \n \n  \n  \nDe voorbeelden komen op maandag 19 sept. vanaf 09.00 uur in de centrale hal te staan. \nDe keuze van liggend of staand model geef je aan tijdens het bestellen van de ticket(s). \n\n\n\nDatum:\n5 avonden\, (10-10\, 11-10\, 12-10\, 13-10) maandag 17 oktober\n\n\nTijd:\n19.00\n\n\nPrijs:\n€ 25\,00\, inclusief materiaal en kopje koffie/thee\n\n\nInschrijven:\n19-09-2022 t/m 03-10-2022\, maximaal 2 tickets p.p. inclusief 1 introducee\n\n\nAantal:\nmaximaal 14 personen per avond\n\n\n\n\n\n\n\nDenk eraan dat je een eigen snoeischaar en/of mesje meeneemt.
URL:https://pv-vitalis.nl/evenement/bloemstuk-maken-17-okt/
LOCATION:Gaaf bloembinder\, Meddosestraat 18\, Winterswijk\, 7101CW
ATTACH;FMTTYPE=image/jpeg:https://pv-vitalis.nl/wp-content/uploads/2022/09/Untitled-1.jpg
ORGANIZER;CN="Annette Meekes":MAILTO:A.G.Meekes@skbwinterswijk.nl
END:VEVENT
BEGIN:VEVENT
DTSTART;TZID=Europe/Amsterdam:20221021T080000
DTEND;TZID=Europe/Amsterdam:20221021T200000
DTSTAMP:20260421T021853
CREATED:20220812T100531Z
LAST-MODIFIED:20220912T160842Z
UID:10000097-1666339200-1666382400@pv-vitalis.nl
SUMMARY:Dagtocht Leiden
DESCRIPTION:De personeelsvereniging organiseert voor haar leden een dagtocht naar Leiden.\nWe gaan er met de bus naar toe. Bij aankomst\, rond 10 uur\, genieten we eerst van een kop koffie met gebak bij Grand Café de Burcht.\nDaarna is het 5 minuten lopen naar de Rondvaart boot waar we ons heerlijk door de grachten van Leiden laten varen.\nNa de Rondvaart heeft u nog een hele middag om vrij te besteden \n\n\n\nDatum:\nvrijdag 21-10-2022\n\n\nTijd:\n08.00 vertrek bus bij SKB\, vertrek uit Leiden 18.00\n\n\nPrijs:\n€12\,50\n\n\nInschrijven:\n12-09-2022 t/m 26-09-2022\, maximaal 2 tickets p.p. inclusief 1 introducee\n\n\nAantal:\nmaximaal 100 personen\n\n\n\n\n\n\n\nBij vragen gelieve contact opnemen met de organisator.
URL:https://pv-vitalis.nl/evenement/dagtocht-leiden/
ATTACH;FMTTYPE=image/png:https://pv-vitalis.nl/wp-content/uploads/2022/08/Dagtocht-Leiden-2022.png
ORGANIZER;CN="Gerdina Kruisselbrink":MAILTO:g.kruisselbrink@skbwinterswijk.nl
END:VEVENT
BEGIN:VEVENT
DTSTART;TZID=Europe/Amsterdam:20221029T150000
DTEND;TZID=Europe/Amsterdam:20221029T190000
DTSTAMP:20260421T021853
CREATED:20220921T133452Z
LAST-MODIFIED:20221005T145651Z
UID:10000104-1667055600-1667070000@pv-vitalis.nl
SUMMARY:Wildbarbecue
DESCRIPTION:PV Vitalis organiseert voor haar leden bij \nTom Lammers\, jager & slager in  Henxel \nEen wildbarbecue\, inclusief een rondleiding in het jachtgebied van Henxel \nVanaf ongeveer 15 uur zal Tom een rondleiding geven van ongeveer 1\,5 uur in het jachtgebied nabij zijn huis\, waarbij hij uitleg geeft over alle aspecten van de jacht.\nAansluitend verzorgt hij een heerlijke wildbarbecue en zal Tom en vertelt hij over de verschillende vleessoorten. \n\n\n\nDatum:\n29 oktober 2022\n\n\nTijd:\n15.00 (inloop vanaf 14.30)\n\n\nPrijs:\n€ 35\,00\, inclusief barbecue en drankjes\n\n\nInschrijven:\n06-10-2022 t/m 20-10-2022\, maximaal 2 tickets p.p. inclusief 1 introducee\n\n\nAantal:\nmaximaal 35 personen
URL:https://pv-vitalis.nl/evenement/wildbarbeque/
LOCATION:Tom Lammers\, Ratumseweg 2\, Winterswijk Henxel\, 7113AH
ATTACH;FMTTYPE=image/png:https://pv-vitalis.nl/wp-content/uploads/2022/09/BBQ.png
ORGANIZER;CN="Ingrid Roessink":MAILTO:ingridroessink@gmail.com
END:VEVENT
END:VCALENDAR