BEGIN:VCALENDAR
VERSION:2.0
PRODID:-//Vitalis - ECPv6.15.20//NONSGML v1.0//EN
CALSCALE:GREGORIAN
METHOD:PUBLISH
X-ORIGINAL-URL:https://pv-vitalis.nl
X-WR-CALDESC:Evenementen voor Vitalis
REFRESH-INTERVAL;VALUE=DURATION:PT1H
X-Robots-Tag:noindex
X-PUBLISHED-TTL:PT1H
BEGIN:VTIMEZONE
TZID:UTC
BEGIN:STANDARD
TZOFFSETFROM:+0000
TZOFFSETTO:+0000
TZNAME:UTC
DTSTART:20210101T000000
END:STANDARD
END:VTIMEZONE
BEGIN:VTIMEZONE
TZID:Europe/Amsterdam
BEGIN:DAYLIGHT
TZOFFSETFROM:+0100
TZOFFSETTO:+0200
TZNAME:CEST
DTSTART:20210328T010000
END:DAYLIGHT
BEGIN:STANDARD
TZOFFSETFROM:+0200
TZOFFSETTO:+0100
TZNAME:CET
DTSTART:20211031T010000
END:STANDARD
BEGIN:DAYLIGHT
TZOFFSETFROM:+0100
TZOFFSETTO:+0200
TZNAME:CEST
DTSTART:20220327T010000
END:DAYLIGHT
BEGIN:STANDARD
TZOFFSETFROM:+0200
TZOFFSETTO:+0100
TZNAME:CET
DTSTART:20221030T010000
END:STANDARD
BEGIN:DAYLIGHT
TZOFFSETFROM:+0100
TZOFFSETTO:+0200
TZNAME:CEST
DTSTART:20230326T010000
END:DAYLIGHT
BEGIN:STANDARD
TZOFFSETFROM:+0200
TZOFFSETTO:+0100
TZNAME:CET
DTSTART:20231029T010000
END:STANDARD
END:VTIMEZONE
BEGIN:VEVENT
DTSTART;TZID=UTC:20220214T000000
DTEND;TZID=UTC:20220531T235900
DTSTAMP:20260421T103854
CREATED:20220214T182706Z
LAST-MODIFIED:20221102T160820Z
UID:10000079-1644796800-1654041540@pv-vitalis.nl
SUMMARY:Tapas  eten
DESCRIPTION:Tapas eten bij Gusto \nGusto in Winterswijk  is een plek waar je in een sfeervolle ambiance kan lunchen en dineren volgens een duidelijk concept. Je kunt kiezen uit toegankelijke gerechten van de Italiaanse\, Spaanse\, Hollandse\, Indische en Surinaamse keuken. Met Surinaamse achtergrond van de kok (eigenaar) is dat extra leuk. In een middag of avond kun je dus op culinair vlak bijna de hele wereld over. \nGusto streeft ernaar om mensen te verbinden en te laten genieten van smaakvolle gerechten en gedurfde combinaties. Alles wordt op een unieke manier bereid en gepresenteerd. \nWij mogen de PV leden een flinke korting aanbieden om te gaan genieten van  onbeperkt (18.00 – 21.00) heerlijke tapas eten! \n\nJe mag als PV lid maximaal 4 vouchers bestellen.\nreserveren verplicht via de site van Gusto Winterswijk\nHet is alleen mogelijk op donderdag/vrijdag/zaterdag/zondag. Let op M.u.v de feestdagen!!\n\nDe vouchers kunnen op vertoon van je personeelspas opgehaald worden bij de centrale receptie op maandag 15 november. \nActie is geldig tot 31 mei 2022 daarna kunnen ze niet meer gebruikt worden! \nAandachtspunt \nOp de voucher staat je personeelsnummer. De actie is bedoeld voor leden van de personeelsvereniging. Bij gebruik moet de persoon aanwezig zijn met zijn/haar personeelspas. \nJe hoeft dus alleen de drankjes nog af te rekenen. \n Waar: Gusto\,  Meddosestraat 1\, Winterswijk. Tel: 0543-530239 \nInschrijven: Via een lijst bij de centrale receptie. Vanaf maandag 25 okt tm 8 november. \nKosten: De kosten bedragen € 25\,00  per voucher en worden na inschrijving van het loon ingehouden. Opgeven =betalen
URL:https://pv-vitalis.nl/evenement/393/
LOCATION:Gusto\, Meddosestraat 1\, Winterswijk\, 7101CS
ORGANIZER;CN="Annette Meekes":MAILTO:A.G.Meekes@skbwinterswijk.nl
END:VEVENT
BEGIN:VEVENT
DTSTART;TZID=Europe/Amsterdam:20220404T193000
DTEND;TZID=Europe/Amsterdam:20220404T220000
DTSTAMP:20260421T103854
CREATED:20220308T203751Z
LAST-MODIFIED:20220310T204053Z
UID:10000081-1649100600-1649109600@pv-vitalis.nl
SUMMARY:Paas Workshop 4/4
DESCRIPTION:Ook dit jaar gaan we weer naar Timmermans en  Mulder voor een Paas Workshop. \nVanaf maandag 21 maart staan er 2 voorbeelden in de buurt van de centrale receptie. \nData: maandag 4 april\, dinsdag 5 april\, woensdag 6 april en donderdag 7 april\nTijd: 19.30 uur.\nKosten: € 25\,00 inclusief materiaal\, wat lekkers bij de koffie en drankje. \nN.B. Wel een eigen mesje of snoeischaar meenemen.\nJe kunt via de winkel naar binnen\, maar ook via de achteringang daar is een grote parkeerplaats.\nJe mag 1 introducé meenemen. \nTickets beschikbaar vanaf maandag  21 maart vanaf 9.00 uur tot maandag 28 mrt 17.00  uur.\nKies voor bestelling de juiste dag in de kalender. \nZijn de avonden vol\, doe dan een bericht naar de organisator\, Annette Meekes.
URL:https://pv-vitalis.nl/evenement/paas-workshop/
LOCATION:Timmermans&Mulder\, Misterstraat 49\, Winterswijk\, 7101 ES
ORGANIZER;CN="Annette Meekes":MAILTO:A.G.Meekes@skbwinterswijk.nl
END:VEVENT
BEGIN:VEVENT
DTSTART;TZID=Europe/Amsterdam:20220405T193000
DTEND;TZID=Europe/Amsterdam:20220405T220000
DTSTAMP:20260421T103854
CREATED:20220310T203002Z
LAST-MODIFIED:20220310T203212Z
UID:10000082-1649187000-1649196000@pv-vitalis.nl
SUMMARY:Paas Workshop 5/4
DESCRIPTION:Ook dit jaar gaan we weer naar Timmermans en  Mulder voor een Paas Workshop. \nVanaf maandag 21 maart staan er 2 voorbeelden in de buurt van de centrale receptie. \nData: maandag 4 april\, dinsdag 5 april\, woensdag 6 april en donderdag 7 april\nTijd: 19.30 uur.\nKosten: € 25\,00 inclusief materiaal\, wat lekkers bij de koffie en drankje. \nN.B. Wel een eigen mesje of snoeischaar meenemen.\nJe kunt via de winkel naar binnen\, maar ook via de achteringang daar is een grote parkeerplaats.\nJe mag 1 introducé meenemen. \nTickets beschikbaar vanaf maandag  21 maart vanaf 9.00 uur tot maandag 28 mrt 17.00  uur.\nKies voor bestelling de juiste dag in de kalender. \nZijn de avonden vol\, doe dan een bericht naar de organisator\, Annette Meekes.
URL:https://pv-vitalis.nl/evenement/paas-workshop-5-4/
LOCATION:Timmermans&Mulder\, Misterstraat 49\, Winterswijk\, 7101 ES
ORGANIZER;CN="Annette Meekes":MAILTO:A.G.Meekes@skbwinterswijk.nl
END:VEVENT
BEGIN:VEVENT
DTSTART;TZID=Europe/Amsterdam:20220406T193000
DTEND;TZID=Europe/Amsterdam:20220406T220000
DTSTAMP:20260421T103854
CREATED:20220310T204317Z
LAST-MODIFIED:20220310T204606Z
UID:10000083-1649273400-1649282400@pv-vitalis.nl
SUMMARY:Paas Workshop 6/4
DESCRIPTION:Ook dit jaar gaan we weer naar Timmermans en  Mulder voor een Paas Workshop. \nVanaf maandag 21 maart staan er 2 voorbeelden in de buurt van de centrale receptie. \nData: maandag 4 april\, dinsdag 5 april\, woensdag 6 april en donderdag 7 april\nTijd: 19.30 uur.\nKosten: € 25\,00 inclusief materiaal\, wat lekkers bij de koffie en drankje. \nN.B. Wel een eigen mesje of snoeischaar meenemen.\nJe kunt via de winkel naar binnen\, maar ook via de achteringang daar is een grote parkeerplaats.\nJe mag 1 introducé meenemen. \nTickets beschikbaar vanaf maandag  21 maart vanaf 9.00 uur tot maandag 28 mrt 17.00  uur.\nKies voor bestelling de juiste dag in de kalender. \nZijn de avonden vol\, doe dan een bericht naar de organisator\, Annette Meekes.
URL:https://pv-vitalis.nl/evenement/paas-workshop-6-4/
LOCATION:Timmermans&Mulder\, Misterstraat 49\, Winterswijk\, 7101 ES
ORGANIZER;CN="Annette Meekes":MAILTO:A.G.Meekes@skbwinterswijk.nl
END:VEVENT
BEGIN:VEVENT
DTSTART;TZID=Europe/Amsterdam:20220407T193000
DTEND;TZID=Europe/Amsterdam:20220407T220000
DTSTAMP:20260421T103854
CREATED:20220310T204512Z
LAST-MODIFIED:20220310T204512Z
UID:10000084-1649359800-1649368800@pv-vitalis.nl
SUMMARY:Paas Workshop 7/4
DESCRIPTION:Ook dit jaar gaan we weer naar Timmermans en  Mulder voor een Paas Workshop. \nVanaf maandag 21 maart staan er 2 voorbeelden in de buurt van de centrale receptie. \nData: maandag 4 april\, dinsdag 5 april\, woensdag 6 april en donderdag 7 april\nTijd: 19.30 uur.\nKosten: € 25\,00 inclusief materiaal\, wat lekkers bij de koffie en drankje. \nN.B. Wel een eigen mesje of snoeischaar meenemen.\nJe kunt via de winkel naar binnen\, maar ook via de achteringang daar is een grote parkeerplaats.\nJe mag 1 introducé meenemen. \nTickets beschikbaar vanaf maandag  21 maart vanaf 9.00 uur tot maandag 28 mrt 17.00  uur.\nKies voor bestelling de juiste dag in de kalender. \nZijn de avonden vol\, doe dan een bericht naar de organisator\, Annette Meekes.
URL:https://pv-vitalis.nl/evenement/paas-workshop-7-4/
LOCATION:Timmermans&Mulder\, Misterstraat 49\, Winterswijk\, 7101 ES
ORGANIZER;CN="Annette Meekes":MAILTO:A.G.Meekes@skbwinterswijk.nl
END:VEVENT
BEGIN:VEVENT
DTSTART;TZID=Europe/Amsterdam:20220422T200000
DTEND;TZID=Europe/Amsterdam:20220422T230000
DTSTAMP:20260421T103854
CREATED:20220407T131048Z
LAST-MODIFIED:20220408T135119Z
UID:10000085-1650657600-1650668400@pv-vitalis.nl
SUMMARY:Darttoernooi
DESCRIPTION:De pv Vitalis organiseert op vrijdag 22 april 2022 voor haar leden een interne dartcompetitie\, wie wordt de beste darter en dartster van het SKB. \nEr kunnen zich maximaal 40 personen opgeven via individuele opgave.\nOp de avond zelf worden jullie ingedeeld in poules\, waarbij je individueel tegen elkaar speelt.\nUiteindelijk gaan de nummers 1 en 2 naar de winnaarspoule en de nummers 3 en 4 naar de troostpoule. \nVoor de inleg van € 5 krijg je van PV Vitalis 4 consumpties en een hapje.\nDe winnaars ontvangen een mooi prijsje.
URL:https://pv-vitalis.nl/evenement/darttoernooi/
LOCATION:Café De Stam\, Misterstraat 71\, Winterswijk\, 7101ET
ATTACH;FMTTYPE=image/jpeg:https://pv-vitalis.nl/wp-content/uploads/2022/04/Darten.jpg
ORGANIZER;CN="Jan Willekes":MAILTO:j.willekes@kpnmail.nl
END:VEVENT
END:VCALENDAR