BEGIN:VCALENDAR
VERSION:2.0
PRODID:-//Vitalis - ECPv6.15.20//NONSGML v1.0//EN
CALSCALE:GREGORIAN
METHOD:PUBLISH
X-WR-CALNAME:Vitalis
X-ORIGINAL-URL:https://pv-vitalis.nl
X-WR-CALDESC:Evenementen voor Vitalis
REFRESH-INTERVAL;VALUE=DURATION:PT1H
X-Robots-Tag:noindex
X-PUBLISHED-TTL:PT1H
BEGIN:VTIMEZONE
TZID:UTC
BEGIN:STANDARD
TZOFFSETFROM:+0000
TZOFFSETTO:+0000
TZNAME:UTC
DTSTART:20210101T000000
END:STANDARD
END:VTIMEZONE
BEGIN:VEVENT
DTSTART;TZID=UTC:20220317T200000
DTEND;TZID=UTC:20220317T230000
DTSTAMP:20260421T162325
CREATED:20220214T113749Z
LAST-MODIFIED:20220525T184618Z
UID:10000076-1647547200-1647558000@pv-vitalis.nl
SUMMARY:Aladdin
DESCRIPTION:Aladdin is een musical gebaseerd op de gelijknamige Disney-animatiefilm uit 1992\, geregisseerd door Casey Nicholaw. Het scenario van de musical is geschreven door Chad Beguelin. In de musical worden zowel de nummers uit de oorspronkelijke animatiefilm als gloednieuwe nummers gebracht.\nAladdin is een arme jongen die in de straten van Agrabah leeft en steelt om te kunnen overleven.\nOp een dag ontmoet hij daar prinses Jasmine en redt haar\, nadat zij ontsnapte uit het paleis om te ontdekken hoe het leven buiten de paleismuren is.\nEen prachtig meeslepend verhaal dat fantastisch uitgevoerd wordt door topartiesten. \nDe ticket is voor een 1ste kaart op de eerste rang en vervoer met de bus vanaf het SKB.\nVertrek met de bus bij SKB om 17.00 uur. \nNB. Naast je zelf mag je 1 intro (niet werkzaam in het SKB) inschrijven
URL:https://pv-vitalis.nl/evenement/aladdin/
LOCATION:Afas circustheater\, Scheveningen
ATTACH;FMTTYPE=image/png:https://pv-vitalis.nl/wp-content/uploads/2022/02/Circustheater.png
ORGANIZER;CN="Annette Meekes":MAILTO:A.G.Meekes@skbwinterswijk.nl
END:VEVENT
BEGIN:VEVENT
DTSTART;TZID=UTC:20220225T073000
DTEND;TZID=UTC:20220225T100000
DTSTAMP:20260421T162325
CREATED:20220210T183426Z
LAST-MODIFIED:20220220T143743Z
UID:10000075-1645774200-1645783200@pv-vitalis.nl
SUMMARY:Fotografiecursus
DESCRIPTION:Hier komt een lange\, lange omschrijving met heel veel woorden. \nhandiger is om de data hier te noteren ipv herhalen in de kalender
URL:https://pv-vitalis.nl/evenement/302/
LOCATION:SKB\, Beatrixpark 1\, Winterswijk\, 7101BN
ORGANIZER;CN="Douwe Haandrikman":MAILTO:d.haandrikman@skbwinterswijk.nl
END:VEVENT
BEGIN:VEVENT
DTSTART;TZID=UTC:20220212T150000
DTEND;TZID=UTC:20220212T150000
DTSTAMP:20260421T162325
CREATED:20220214T175801Z
LAST-MODIFIED:20220215T083605Z
UID:10000078-1644678000-1644678000@pv-vitalis.nl
SUMMARY:Culinaire Proeverij
DESCRIPTION:  \nCulinaire Proeverij \nPersoneelsvereniging Vitalis organiseert voor haar leden een Culinaire Proeverij \nInclusief drankjes\, rondleiding in en rondom het Keunenhuis en de gelegenheid om mee te koken met Nel. \nWaar: Het Keunenhuis\, Wooldseweg 127 ( op navigatie intoetsen 125) Winterswijk. (keunenhuis.nl) \nInschrijven: Vanaf 6 december tot 20 december \nBij de receptie ligt een inschrijflijst waarop je je naam\, personeelsnummer\, afdeling en tel nr in kan vullen. Daarnaast kunnen dieetwensen aangegeven worden en of je “actief” mee wilt koken. \nJe mag alleen je zelf en 1 ander pv lid aanmelden \nAantal:          Maximaal 20 deelnemers( geen introduce)\n(Bij veel animo wordt een 2e dag georganiseerd)\nKosten:         €50.- \nOpgeven = betalen\n(Tenzij door de dan geldende maatregelen de activiteit niet door kan gaan)
URL:https://pv-vitalis.nl/evenement/382/
ATTACH;FMTTYPE=image/jpeg:https://pv-vitalis.nl/wp-content/uploads/2022/02/Nel_schellekens.jpg
ORGANIZER;CN="Saskia Velders":MAILTO:S.Velders@skbwinterswijk.nl
END:VEVENT
BEGIN:VEVENT
DTSTART;VALUE=DATE:20220130
DTEND;VALUE=DATE:20220204
DTSTAMP:20260421T162325
CREATED:20220214T193432Z
LAST-MODIFIED:20220215T081719Z
UID:10000080-1643500800-1643932799@pv-vitalis.nl
SUMMARY:Skiën
DESCRIPTION:Voor de 27ste keer organiseert Vitalis een wintersportvakantie \nVerblijft u graag in een bruisende wintersportplaats? Dan is Gerlos\, en dan vooral dit pension met pas  gerenoveerde kamers \, een uitstekende keuze. Gasthof  Mitterhof  ligt in het centrum van Gerlos tussen de skipistes en de wandelpaden. Perfecte ligging!! Naast de après ski en gezellige kroegjes! Je kan zo terug skiën naar je hotel. \nOp ca. 250 m vindt u de skilift die u naar de prachtige skipistes brengt\, waar u heerlijk vanaf kunt suizen! Een rodelbaan en een langlaufloipe liggen op 500 tot 1 km vanaf hotel. Bij terugkomst geniet u nog na in de lounge met open haard. \nPrijs: \n\n€ 375 pp 394\n\nInschrijven:  \n\nVia inschrijflijsten bij de centrale receptie er kunnen 40 pers. mee.\,Helaas hebben we een optie op de kamers  kunnen krijgen tot 1 augustus dus wees er snel bij !!\nU mag 1 introduce meenemen.\n\nDeze reis is inclusief: \n\nReizen in een luxe Duitse touringcar “mit bequeme Schlafsessel “ met bar\, toilet\, TV\nVier overnachtingen op basis van Logies en Ontbijt\nEnige versnaperingen tijdens de reis\n\nExclusief  \n\nreis en annuleringsverzekering\, hiervoor dient u zelf zorg te dragen. Denk hierbij ook aan de wintersport dekking!\nSki huur en ski pas mogelijk in het hotel.\n\n  \nGlobaal programma : \n\nZaterdagavond 29-01-2022 vertrek om 23.00u. vanaf bushalte nabij SKB\nBij aankomst wordt het hotel ingedeeld .\nEventueel zondagmiddag skiën\, maandag-dinsdag-woensdag  de gehele dag skiën\nDonderdagmorgen 03-02-2022 .na het ontbijt vertrek naar Winterswijk\nInschrijven = betalen\nBij voldoende deelname kan de reis door gaan!!
URL:https://pv-vitalis.nl/evenement/skien/
ATTACH;FMTTYPE=image/png:https://pv-vitalis.nl/wp-content/uploads/2022/02/Hotel-Mitterhof-Gerlos.png
ORGANIZER;CN="Annette Meekes":MAILTO:A.G.Meekes@skbwinterswijk.nl
END:VEVENT
END:VCALENDAR