BEGIN:VCALENDAR
VERSION:2.0
PRODID:-//Vitalis - ECPv6.15.20//NONSGML v1.0//EN
CALSCALE:GREGORIAN
METHOD:PUBLISH
X-WR-CALNAME:Vitalis
X-ORIGINAL-URL:https://pv-vitalis.nl
X-WR-CALDESC:Evenementen voor Vitalis
REFRESH-INTERVAL;VALUE=DURATION:PT1H
X-Robots-Tag:noindex
X-PUBLISHED-TTL:PT1H
BEGIN:VTIMEZONE
TZID:Europe/Amsterdam
BEGIN:DAYLIGHT
TZOFFSETFROM:+0100
TZOFFSETTO:+0200
TZNAME:CEST
DTSTART:20240331T010000
END:DAYLIGHT
BEGIN:STANDARD
TZOFFSETFROM:+0200
TZOFFSETTO:+0100
TZNAME:CET
DTSTART:20241027T010000
END:STANDARD
BEGIN:DAYLIGHT
TZOFFSETFROM:+0100
TZOFFSETTO:+0200
TZNAME:CEST
DTSTART:20250330T010000
END:DAYLIGHT
BEGIN:STANDARD
TZOFFSETFROM:+0200
TZOFFSETTO:+0100
TZNAME:CET
DTSTART:20251026T010000
END:STANDARD
BEGIN:DAYLIGHT
TZOFFSETFROM:+0100
TZOFFSETTO:+0200
TZNAME:CEST
DTSTART:20260329T010000
END:DAYLIGHT
BEGIN:STANDARD
TZOFFSETFROM:+0200
TZOFFSETTO:+0100
TZNAME:CET
DTSTART:20261025T010000
END:STANDARD
END:VTIMEZONE
BEGIN:VEVENT
DTSTART;TZID=Europe/Amsterdam:20251020T080000
DTEND;TZID=Europe/Amsterdam:20251119T170000
DTSTAMP:20260420T114228
CREATED:20251009T174725Z
LAST-MODIFIED:20251120T125048Z
UID:10000217-1760947200-1763571600@pv-vitalis.nl
SUMMARY:Kortingskaarten Bommelwereld in Groenlo
DESCRIPTION:Kaarten zijn geldig Vanaf 20 oktober t/m 31 januari 2026 \nPrijs:  €15  pp (max 80 kaarten)\nOpgeven: Vanaf 13 oktober  t/m 17 oktober via de site van de PV. \nVanaf 19 oktober liggen de tickets klaar bij de centrale receptie.\nKaarten zijn niet overdraagbaar je moet er zelf aanwezig zijn als PV lid. \nJe mag als PV lid 3 gezinsleden meenemen (dus max 4 kaarten per persoon). \nLET OP !!!   Eigen vervoer
URL:https://pv-vitalis.nl/evenement/kortingskaarten-bommelwereld-in-groenlo/
LOCATION:Bommelwereld\, Maarsevonder 1\, Groenlo\, Gelderland\, 7141 HG\, Netherlands
ORGANIZER;CN="Annette Meekes":MAILTO:A.G.Meekes@skbwinterswijk.nl
END:VEVENT
BEGIN:VEVENT
DTSTART;TZID=Europe/Amsterdam:20251021T193000
DTEND;TZID=Europe/Amsterdam:20251021T220000
DTSTAMP:20260420T114228
CREATED:20250909T094559Z
LAST-MODIFIED:20250918T064049Z
UID:10000213-1761075000-1761084000@pv-vitalis.nl
SUMMARY:Herstworkshop 21 oktober 2025
DESCRIPTION:We gaan weer bij Timmermans en Mulder een mooie gestoken herfst krans maken.\nHet voorbeeld komt op maandag  29 sept. vanaf 09.00 uur in de centrale hal te staan. \n \nDe workshops worden gegeven op\nDinsdag                     14       oktober\nDinsdag                     21       oktober \nMaximaal 20 personen  per avond en je mag 1 introducé meenemen. \nKosten\nDe kosten bedragen €  27\,50 inclusief materiaal – kopje koffie met wat lekkers.\nDenk eraan dat je een eigen snoeischaar of mesje meeneemt. \nAanvang \nDe avonden beginnen om 19.30 uur. \nAdres\nTimmermans en Mulder\nMisterstraat 49\n7101 ES Winterswijk \nJe kunt via de  winkel naar binnen\, maar ook via de achter ingang\, daar is  een parkeerplaats. \nInschrijving\nvanaf maandag  29 sept. vanaf 09.00 uur tot woensdag 8 oktober. 17.00 uur.
URL:https://pv-vitalis.nl/evenement/herstworkshop-21-oktober-2025/
LOCATION:Timmermans&Mulder\, Misterstraat 49\, Winterswijk\, 7101 ES
ORGANIZER;CN="Annette Meekes":MAILTO:A.G.Meekes@skbwinterswijk.nl
END:VEVENT
END:VCALENDAR