BEGIN:VCALENDAR
VERSION:2.0
PRODID:-//Vitalis - ECPv6.15.20//NONSGML v1.0//EN
CALSCALE:GREGORIAN
METHOD:PUBLISH
X-WR-CALNAME:Vitalis
X-ORIGINAL-URL:https://pv-vitalis.nl
X-WR-CALDESC:Evenementen voor Vitalis
REFRESH-INTERVAL;VALUE=DURATION:PT1H
X-Robots-Tag:noindex
X-PUBLISHED-TTL:PT1H
BEGIN:VTIMEZONE
TZID:Europe/Amsterdam
BEGIN:DAYLIGHT
TZOFFSETFROM:+0100
TZOFFSETTO:+0200
TZNAME:CEST
DTSTART:20240331T010000
END:DAYLIGHT
BEGIN:STANDARD
TZOFFSETFROM:+0200
TZOFFSETTO:+0100
TZNAME:CET
DTSTART:20241027T010000
END:STANDARD
BEGIN:DAYLIGHT
TZOFFSETFROM:+0100
TZOFFSETTO:+0200
TZNAME:CEST
DTSTART:20250330T010000
END:DAYLIGHT
BEGIN:STANDARD
TZOFFSETFROM:+0200
TZOFFSETTO:+0100
TZNAME:CET
DTSTART:20251026T010000
END:STANDARD
BEGIN:DAYLIGHT
TZOFFSETFROM:+0100
TZOFFSETTO:+0200
TZNAME:CEST
DTSTART:20260329T010000
END:DAYLIGHT
BEGIN:STANDARD
TZOFFSETFROM:+0200
TZOFFSETTO:+0100
TZNAME:CET
DTSTART:20261025T010000
END:STANDARD
END:VTIMEZONE
BEGIN:VEVENT
DTSTART;TZID=Europe/Amsterdam:20251015T190000
DTEND;TZID=Europe/Amsterdam:20251015T190000
DTSTAMP:20260420T060507
CREATED:20250909T082656Z
LAST-MODIFIED:20250918T064152Z
UID:10000211-1760554800-1760554800@pv-vitalis.nl
SUMMARY:Ladiesnight 15 oktober 2025
DESCRIPTION:Op woensdag 15 oktober en donderdag 16 oktober 2025 organiseert de personeelsvereniging voor haar leden in samenwerking met Skopein weer een ladiesnight (film en tapas). \nDe film ‘ONZE JONGENS 3’ \n‘nieuwe klus\, nieuwe jongens’ \n \nKosten                 : € 25\,- per persoon.\nAanvang vanaf   : 19.00 uur\nFilm start              : 21.15 uur\nInschrijven vanaf 22 september tot en met 5 oktober 2025. Per personeelslid is één introducé toegestaan.\nMaximaal 80 personen per avond. \nNeem je ticket geprint of digitaal mee naar de ladiesnight\, zodat het ticket ID gecontroleerd kan worden.\nVia de inschrijving op de site kun je dieetwensen doorgeven en of je graag met een groepje bij elkaar wil zitten. \nIs de inschrijving vol en wil je graag op de reservelijst geplaatst worden? Stuur een mail naar; m.reinders@skbwinterswijk.nl
URL:https://pv-vitalis.nl/evenement/ladiesnight/
LOCATION:Skopein\, Meddosestraat 6-8\, 7101CV
ORGANIZER;CN="Merlin Reinders":MAILTO:M.Reinders@skbwinterswijk.nl
END:VEVENT
END:VCALENDAR