BEGIN:VCALENDAR
VERSION:2.0
PRODID:-//Vitalis - ECPv6.15.20//NONSGML v1.0//EN
CALSCALE:GREGORIAN
METHOD:PUBLISH
X-ORIGINAL-URL:https://pv-vitalis.nl
X-WR-CALDESC:Evenementen voor Vitalis
REFRESH-INTERVAL;VALUE=DURATION:PT1H
X-Robots-Tag:noindex
X-PUBLISHED-TTL:PT1H
BEGIN:VTIMEZONE
TZID:Europe/Amsterdam
BEGIN:DAYLIGHT
TZOFFSETFROM:+0100
TZOFFSETTO:+0200
TZNAME:CEST
DTSTART:20240331T010000
END:DAYLIGHT
BEGIN:STANDARD
TZOFFSETFROM:+0200
TZOFFSETTO:+0100
TZNAME:CET
DTSTART:20241027T010000
END:STANDARD
BEGIN:DAYLIGHT
TZOFFSETFROM:+0100
TZOFFSETTO:+0200
TZNAME:CEST
DTSTART:20250330T010000
END:DAYLIGHT
BEGIN:STANDARD
TZOFFSETFROM:+0200
TZOFFSETTO:+0100
TZNAME:CET
DTSTART:20251026T010000
END:STANDARD
BEGIN:DAYLIGHT
TZOFFSETFROM:+0100
TZOFFSETTO:+0200
TZNAME:CEST
DTSTART:20260329T010000
END:DAYLIGHT
BEGIN:STANDARD
TZOFFSETFROM:+0200
TZOFFSETTO:+0100
TZNAME:CET
DTSTART:20261025T010000
END:STANDARD
END:VTIMEZONE
BEGIN:VEVENT
DTSTART;TZID=Europe/Amsterdam:20251010T090000
DTEND;TZID=Europe/Amsterdam:20251010T180000
DTSTAMP:20260420T002746
CREATED:20250827T084944Z
LAST-MODIFIED:20250925T070451Z
UID:10000210-1760086800-1760119200@pv-vitalis.nl
SUMMARY:Dagtocht Centro Oberhausen
DESCRIPTION:De personeelsvereniging organiseert voor haar leden een dagtocht naar \nCentrO Oberhausen \nCentro Oberhausen is een enorm winkel- en vrijetijdscentrum\, en een van de grootste in Europa.\nHet biedt een breed scala aan winkels\, restaurants en attracties\, zoals Sea Life. Het centrum ligt in het hart van de Neue Mitte Oberhausen. Het is ongeveer 3 à 4 kilometer naar het oude stadscentrum; dit kun je in een half uur wandelen\, of je neemt tram 112 en bent er binnen een kwartier. \nBij aankomst is iedereen vrij om ergens koffie te drinken. Na de koffie heeft u de tijd om de dag zelf in te delen. \nWanneer: Vrijdag 10 Oktober\nKosten: € 5\,00 per persoon.\nMaximaal 100 personen.\nVertrek: vanaf SKB om 09.00u\nVertrek uit Oberhausen om 18.00 uur\nInschrijving:\nVanaf maandag 8 september t/m 21 september 2025\nEén introducé is toegestaan.
URL:https://pv-vitalis.nl/evenement/dagtocht-centro-oberhausen/
LOCATION:CentrO Oberhausen\, CentrO-Promenade 555\, Oberhausen\, 46047\, Germany
ORGANIZER;CN="Gerdina Kruisselbrink":MAILTO:g.kruisselbrink@skbwinterswijk.nl
END:VEVENT
END:VCALENDAR