BEGIN:VCALENDAR
VERSION:2.0
PRODID:-//Vitalis - ECPv6.15.20//NONSGML v1.0//EN
CALSCALE:GREGORIAN
METHOD:PUBLISH
X-WR-CALNAME:Vitalis
X-ORIGINAL-URL:https://pv-vitalis.nl
X-WR-CALDESC:Evenementen voor Vitalis
REFRESH-INTERVAL;VALUE=DURATION:PT1H
X-Robots-Tag:noindex
X-PUBLISHED-TTL:PT1H
BEGIN:VTIMEZONE
TZID:Europe/Amsterdam
BEGIN:DAYLIGHT
TZOFFSETFROM:+0100
TZOFFSETTO:+0200
TZNAME:CEST
DTSTART:20240331T010000
END:DAYLIGHT
BEGIN:STANDARD
TZOFFSETFROM:+0200
TZOFFSETTO:+0100
TZNAME:CET
DTSTART:20241027T010000
END:STANDARD
BEGIN:DAYLIGHT
TZOFFSETFROM:+0100
TZOFFSETTO:+0200
TZNAME:CEST
DTSTART:20250330T010000
END:DAYLIGHT
BEGIN:STANDARD
TZOFFSETFROM:+0200
TZOFFSETTO:+0100
TZNAME:CET
DTSTART:20251026T010000
END:STANDARD
BEGIN:DAYLIGHT
TZOFFSETFROM:+0100
TZOFFSETTO:+0200
TZNAME:CEST
DTSTART:20260329T010000
END:DAYLIGHT
BEGIN:STANDARD
TZOFFSETFROM:+0200
TZOFFSETTO:+0100
TZNAME:CET
DTSTART:20261025T010000
END:STANDARD
END:VTIMEZONE
BEGIN:VEVENT
DTSTART;TZID=Europe/Amsterdam:20250517T140000
DTEND;TZID=Europe/Amsterdam:20250517T180000
DTSTAMP:20260419T171218
CREATED:20250404T081341Z
LAST-MODIFIED:20250404T081341Z
UID:10000204-1747490400-1747504800@pv-vitalis.nl
SUMMARY:Outdoor 6-kamp toernooi
DESCRIPTION:De p.v. Vitalis organiseert op zaterdag 17 mei voor haar leden een interne zeskamp met 6 onderdelen (o.a. behendigheidsparcours\, klimparcours).\nHierbij gaan de onderlinge afdelingen of combinatie van afdelingen strijden om de eer wie het beste zeskamp team van het SKB heeft. \nWaar: Outdoor Winterswijk bevindt zich aan de rand van Winterswijk\, op sportcomplex ‘t Huitinkveld. Bataafse weg 2b\, 7101 PA Winterswijk\nwww.outdoorwinterswijk.nl \nTijd: aanwezig 14.00 uur\, start zeskamp vanaf 14.30 uur tot ongeveer 18.00 uur.\nHaverwege de zeskamp is er een pauze waarin de PV Vitalis zorgt voor een hapje en drankje.\nVoor de winnaars zijn er mooie prijzen\, waaronder ook een beker voor het beste\nzeskamp team van het SKB. \nmax 6 teams  kunnen zich inschrijven en per team 4 tot 7 personen! \nInschrijven als team vanaf donderdag 10 april\nbij de centrale receptie via een inschrijfformulier waarbij je de teamnaam\, afdeling(en) namen per team en personeelsnummer\nvermeld ! \nInschrijven kun je tot maandag 28 april.
URL:https://pv-vitalis.nl/evenement/outdoor-6-kamp-toernooi/
LOCATION:Outdoor Winterswijk\, Bataafseweg 2b\, Winterswijk\, 7101PA
ORGANIZER;CN="Annette Meekes":MAILTO:A.G.Meekes@skbwinterswijk.nl
END:VEVENT
END:VCALENDAR