BEGIN:VCALENDAR
VERSION:2.0
PRODID:-//Vitalis - ECPv6.15.20//NONSGML v1.0//EN
CALSCALE:GREGORIAN
METHOD:PUBLISH
X-WR-CALNAME:Vitalis
X-ORIGINAL-URL:https://pv-vitalis.nl
X-WR-CALDESC:Evenementen voor Vitalis
REFRESH-INTERVAL;VALUE=DURATION:PT1H
X-Robots-Tag:noindex
X-PUBLISHED-TTL:PT1H
BEGIN:VTIMEZONE
TZID:Europe/Amsterdam
BEGIN:DAYLIGHT
TZOFFSETFROM:+0100
TZOFFSETTO:+0200
TZNAME:CEST
DTSTART:20240331T010000
END:DAYLIGHT
BEGIN:STANDARD
TZOFFSETFROM:+0200
TZOFFSETTO:+0100
TZNAME:CET
DTSTART:20241027T010000
END:STANDARD
BEGIN:DAYLIGHT
TZOFFSETFROM:+0100
TZOFFSETTO:+0200
TZNAME:CEST
DTSTART:20250330T010000
END:DAYLIGHT
BEGIN:STANDARD
TZOFFSETFROM:+0200
TZOFFSETTO:+0100
TZNAME:CET
DTSTART:20251026T010000
END:STANDARD
BEGIN:DAYLIGHT
TZOFFSETFROM:+0100
TZOFFSETTO:+0200
TZNAME:CEST
DTSTART:20260329T010000
END:DAYLIGHT
BEGIN:STANDARD
TZOFFSETFROM:+0200
TZOFFSETTO:+0100
TZNAME:CET
DTSTART:20261025T010000
END:STANDARD
END:VTIMEZONE
BEGIN:VEVENT
DTSTART;TZID=Europe/Amsterdam:20250515T193000
DTEND;TZID=Europe/Amsterdam:20250516T230000
DTSTAMP:20260419T171247
CREATED:20250324T123244Z
LAST-MODIFIED:20250324T123244Z
UID:10000203-1747337400-1747436400@pv-vitalis.nl
SUMMARY:Intern bowlingtoernooi 2025
DESCRIPTION:De p.v. Vitalis organiseert op donderdag 15 mei en vrijdag 16 mei \nvoor haar leden een interne bowlingcompetitie\, waarbij de onderlinge afdelingen of combinatie van afdelingen gaan strijden om de eer wie zich de beste bowler(ster) en wie het beste bowlingteam van het SKB heeft. \nWaar: Kartbaan Winterswijk aan de  Tinbergenstraat 3 te Winterswijk.\nZie verder de website: www.kartbaanwinterswijk.nl tel: 0543-533480 \nTijd:  Vanaf 19.30 uur inloop\nVanaf 20.00 uur start bowlingcompetitie tot ongeveer 23.00 uur\nAansluitend de prijsuitreiking. \nVoor de winnaars zijn er mooie prijzen\, waaronder ook een beker voor de beste bowler en bowlster en voor het beste team van die avond en ook een overal klassement van alle avonden.\nEr zijn 5 bowlingbanen beschikbaar en per baan/team kunnen zich 8 personen opgeven. Dat betekent dus\, dat er zich max 5 teams per avond kunnen inschrijven!\nDe  personeelsvereniging Vitalis zal zorgen voor een hapje en een drankje. \nInschrijven als team vanaf maandag 31 maart  a.s. bij de centrale receptie via een inschrijfformulier\, waarbij je de teamnaam\, afdeling(en) en namen per team vermeld! \nInschrijven kun je tot maandag 28 april a.s. \nBij vragen kun je terecht bij de organisatie: \nJan Willekes             j.willekes@kpnmail.nl\nLotte Wijshake         ljr.wijshake@gmail.com
URL:https://pv-vitalis.nl/evenement/intern-bowlingtoernooi-2025/
LOCATION:Kartbaan Winterswijk\, Tinbergenstraat 3\, Winterswijk\, 7102JK
ORGANIZER;CN="Jan Willekes":MAILTO:j.willekes@kpnmail.nl
END:VEVENT
END:VCALENDAR