BEGIN:VCALENDAR
VERSION:2.0
PRODID:-//Vitalis - ECPv6.15.20//NONSGML v1.0//EN
CALSCALE:GREGORIAN
METHOD:PUBLISH
X-WR-CALNAME:Vitalis
X-ORIGINAL-URL:https://pv-vitalis.nl
X-WR-CALDESC:Evenementen voor Vitalis
REFRESH-INTERVAL;VALUE=DURATION:PT1H
X-Robots-Tag:noindex
X-PUBLISHED-TTL:PT1H
BEGIN:VTIMEZONE
TZID:Europe/Amsterdam
BEGIN:DAYLIGHT
TZOFFSETFROM:+0100
TZOFFSETTO:+0200
TZNAME:CEST
DTSTART:20240331T010000
END:DAYLIGHT
BEGIN:STANDARD
TZOFFSETFROM:+0200
TZOFFSETTO:+0100
TZNAME:CET
DTSTART:20241027T010000
END:STANDARD
BEGIN:DAYLIGHT
TZOFFSETFROM:+0100
TZOFFSETTO:+0200
TZNAME:CEST
DTSTART:20250330T010000
END:DAYLIGHT
BEGIN:STANDARD
TZOFFSETFROM:+0200
TZOFFSETTO:+0100
TZNAME:CET
DTSTART:20251026T010000
END:STANDARD
BEGIN:DAYLIGHT
TZOFFSETFROM:+0100
TZOFFSETTO:+0200
TZNAME:CEST
DTSTART:20260329T010000
END:DAYLIGHT
BEGIN:STANDARD
TZOFFSETFROM:+0200
TZOFFSETTO:+0100
TZNAME:CET
DTSTART:20261025T010000
END:STANDARD
END:VTIMEZONE
BEGIN:VEVENT
DTSTART;TZID=Europe/Amsterdam:20250413T143000
DTEND;TZID=Europe/Amsterdam:20250413T200000
DTSTAMP:20260419T153803
CREATED:20250313T121556Z
LAST-MODIFIED:20250313T121556Z
UID:10000201-1744554600-1744574400@pv-vitalis.nl
SUMMARY:Pubquiz
DESCRIPTION:PV Vitalis\norganiseert zondag 13 April voor haar leden een\nPub quiz met Tapas!\nIn Rockcafé Taste in Groenlo \nDenk je alles te weten over Nederland te weten? En weet je bijvoorbeeld ook welk land een vierkante vlag heeft…of hoeveel wenkbrauwen Bert en Ernie samen hebben? Een pub quiz heeft niets te maken met je IQ\, maar alles met het vermogen om het juiste antwoord op  “weetjes “uit het geheugen naar boven te halen. Daarom staat de Pub quiz garant voor een paar uur plezier voor jong en oud en op elk niveau. Iedere ronde bevat verschillende vragen\, algemene vragen\, grappige vragen\, muziekronden\, plaatjes ronden\, er kan van alles voorbij komen.\nDe “oh ja” momenten vliegen om de oren. \nWe gaan beginnen met een drankje daarna starten we met de quiz..\n2 x over 4 ronden pub quiz\, tussen door kunnen we genieten van heerlijke tapas.\nHet winnende team krijgt \, behalve eeuwige roem\, een aardige attentie van Taste \nEr kunnen maximaal 36 personen deelnemen\, je mag 1 intro meenemen \nWaar:                        Rockcafé Taste        Lievelderweg 41  Groenlo\nTijd:                           Vanaf 14.30u inloop en vanaf 15.00 uur start van de quiz.\nInschrijving:            vanaf 24 maart tm 10 April\nKosten quiz :          €17\,50 pp dat is inclusief tapas en 2 consumptie munten.
URL:https://pv-vitalis.nl/evenement/pubquiz/
LOCATION:Rockcafé Taste\, Lievelderstraat 41\, Groenlo\, Gelderland\, 7141 BK\, Netherlands
ORGANIZER;CN="Annette Meekes":MAILTO:A.G.Meekes@skbwinterswijk.nl
END:VEVENT
END:VCALENDAR