BEGIN:VCALENDAR
VERSION:2.0
PRODID:-//Vitalis - ECPv6.15.20//NONSGML v1.0//EN
CALSCALE:GREGORIAN
METHOD:PUBLISH
X-ORIGINAL-URL:https://pv-vitalis.nl
X-WR-CALDESC:Evenementen voor Vitalis
REFRESH-INTERVAL;VALUE=DURATION:PT1H
X-Robots-Tag:noindex
X-PUBLISHED-TTL:PT1H
BEGIN:VTIMEZONE
TZID:Europe/Amsterdam
BEGIN:DAYLIGHT
TZOFFSETFROM:+0100
TZOFFSETTO:+0200
TZNAME:CEST
DTSTART:20240331T010000
END:DAYLIGHT
BEGIN:STANDARD
TZOFFSETFROM:+0200
TZOFFSETTO:+0100
TZNAME:CET
DTSTART:20241027T010000
END:STANDARD
BEGIN:DAYLIGHT
TZOFFSETFROM:+0100
TZOFFSETTO:+0200
TZNAME:CEST
DTSTART:20250330T010000
END:DAYLIGHT
BEGIN:STANDARD
TZOFFSETFROM:+0200
TZOFFSETTO:+0100
TZNAME:CET
DTSTART:20251026T010000
END:STANDARD
BEGIN:DAYLIGHT
TZOFFSETFROM:+0100
TZOFFSETTO:+0200
TZNAME:CEST
DTSTART:20260329T010000
END:DAYLIGHT
BEGIN:STANDARD
TZOFFSETFROM:+0200
TZOFFSETTO:+0100
TZNAME:CET
DTSTART:20261025T010000
END:STANDARD
END:VTIMEZONE
BEGIN:VEVENT
DTSTART;TZID=Europe/Amsterdam:20250409T190000
DTEND;TZID=Europe/Amsterdam:20250409T220000
DTSTAMP:20260419T153827
CREATED:20250313T120837Z
LAST-MODIFIED:20250317T080229Z
UID:10000200-1744225200-1744236000@pv-vitalis.nl
SUMMARY:Paas workshop 9 april 2025
DESCRIPTION:Samen met Jeroen van Gaaf bloembinder gaan we dit keer een mooi paas stuk maken. \nKeuze uit: \nPaasei maar dan anders \n \nPaasnest taart \n \nDe workshops worden gegeven op\nmaandag                   7    april\nDinsdag                     8    april\nWoensdag                9    april \nMaximaal 15  personen  per avond \, je mag 1 intro meenemen. \nKosten\nDe kosten bedragen €  28\,00 inclusief materiaal – kopje koffie met wat lekkers.\nDenk eraan dat je een eigen snoeischaar of mesje meeneemt. \nAanvang \nDe avonden beginnen om 19.00 uur. \nAdres\nGaaf bloembinder\nMeddosestraat  18\n7101 CW Winterswijk \nInschrijving\nVanaf maandag  17 maart. vanaf 09.00 uur tot maandag 28 maart 17.00 uur. \nZijn de avonden vol\, stuur een mail naar a.g.meekes@skbwinterswijk.nl
URL:https://pv-vitalis.nl/evenement/paas-workshop-9-april-2025/
LOCATION:Gaaf bloembinder\, Meddosestraat 18\, Winterswijk\, 7101CW
ORGANIZER;CN="Annette Meekes":MAILTO:A.G.Meekes@skbwinterswijk.nl
END:VEVENT
END:VCALENDAR