BEGIN:VCALENDAR
VERSION:2.0
PRODID:-//Vitalis - ECPv6.15.20//NONSGML v1.0//EN
CALSCALE:GREGORIAN
METHOD:PUBLISH
X-WR-CALNAME:Vitalis
X-ORIGINAL-URL:https://pv-vitalis.nl
X-WR-CALDESC:Evenementen voor Vitalis
REFRESH-INTERVAL;VALUE=DURATION:PT1H
X-Robots-Tag:noindex
X-PUBLISHED-TTL:PT1H
BEGIN:VTIMEZONE
TZID:Europe/Amsterdam
BEGIN:DAYLIGHT
TZOFFSETFROM:+0100
TZOFFSETTO:+0200
TZNAME:CEST
DTSTART:20230326T010000
END:DAYLIGHT
BEGIN:STANDARD
TZOFFSETFROM:+0200
TZOFFSETTO:+0100
TZNAME:CET
DTSTART:20231029T010000
END:STANDARD
BEGIN:DAYLIGHT
TZOFFSETFROM:+0100
TZOFFSETTO:+0200
TZNAME:CEST
DTSTART:20240331T010000
END:DAYLIGHT
BEGIN:STANDARD
TZOFFSETFROM:+0200
TZOFFSETTO:+0100
TZNAME:CET
DTSTART:20241027T010000
END:STANDARD
BEGIN:DAYLIGHT
TZOFFSETFROM:+0100
TZOFFSETTO:+0200
TZNAME:CEST
DTSTART:20250330T010000
END:DAYLIGHT
BEGIN:STANDARD
TZOFFSETFROM:+0200
TZOFFSETTO:+0100
TZNAME:CET
DTSTART:20251026T010000
END:STANDARD
END:VTIMEZONE
BEGIN:VEVENT
DTSTART;TZID=Europe/Amsterdam:20241123T143000
DTEND;TZID=Europe/Amsterdam:20241123T233000
DTSTAMP:20260419T140628
CREATED:20241004T132254Z
LAST-MODIFIED:20241030T072537Z
UID:10000183-1732372200-1732404600@pv-vitalis.nl
SUMMARY:Sinterklaasfeest 2024
DESCRIPTION:Organisatoren: Aurelia Elsinghorst  a.elsinghorst@skbwinterswijk.nl \nKarin Sanders           f.sanders2@chello.nl \nSINT NICOLAASFEEST 2024           \n  \n Op ZATERDAG 23 november 2024 organiseert Personeelsvereniging Vitalis weer een Sint Nicolaasfeest voor de kinderen van PV-leden. \nEvenals vorig jaar willen we dit jaar ieder kind de gelegenheid geven een praatje met Sinterklaas en zijn Pieten te maken en natuurlijk een cadeau in ontvangst te nemen. Het zou heel fijn voor Sinterklaas zijn als hij wat “achtergrondinformatie” heeft. \nWe starten om 14.30 uur\, maar maken wel een indeling met de tijd hoe laat je mag komen met je kind(eren). Deze ontvang je uiterlijk 1 week voor 23 november. \n\n\n\nDatum:\nZaterdag 23 november 2024\n\n\nTijd:\nVanaf 14.30 uur (op uitnodiging)\n\n\nInschrijven\nt/m zondag 27 oktober\n\n\nAantal personen:\nvanaf 3 jaar t/m groep 4 basisschool\n\n\nKosten:\ngoede zin\n\n\nLocatie:\npersoneelsrestaurant SKB
URL:https://pv-vitalis.nl/evenement/sinterklaasfeest-2024/
ORGANIZER;CN="Aurelia Elsinghorst":MAILTO:A.Elsinghorst@skbwinterswijk.nl
END:VEVENT
END:VCALENDAR