BEGIN:VCALENDAR
VERSION:2.0
PRODID:-//Vitalis - ECPv6.15.20//NONSGML v1.0//EN
CALSCALE:GREGORIAN
METHOD:PUBLISH
X-WR-CALNAME:Vitalis
X-ORIGINAL-URL:https://pv-vitalis.nl
X-WR-CALDESC:Evenementen voor Vitalis
REFRESH-INTERVAL;VALUE=DURATION:PT1H
X-Robots-Tag:noindex
X-PUBLISHED-TTL:PT1H
BEGIN:VTIMEZONE
TZID:Europe/Amsterdam
BEGIN:DAYLIGHT
TZOFFSETFROM:+0100
TZOFFSETTO:+0200
TZNAME:CEST
DTSTART:20230326T010000
END:DAYLIGHT
BEGIN:STANDARD
TZOFFSETFROM:+0200
TZOFFSETTO:+0100
TZNAME:CET
DTSTART:20231029T010000
END:STANDARD
BEGIN:DAYLIGHT
TZOFFSETFROM:+0100
TZOFFSETTO:+0200
TZNAME:CEST
DTSTART:20240331T010000
END:DAYLIGHT
BEGIN:STANDARD
TZOFFSETFROM:+0200
TZOFFSETTO:+0100
TZNAME:CET
DTSTART:20241027T010000
END:STANDARD
BEGIN:DAYLIGHT
TZOFFSETFROM:+0100
TZOFFSETTO:+0200
TZNAME:CEST
DTSTART:20250330T010000
END:DAYLIGHT
BEGIN:STANDARD
TZOFFSETFROM:+0200
TZOFFSETTO:+0100
TZNAME:CET
DTSTART:20251026T010000
END:STANDARD
END:VTIMEZONE
BEGIN:VEVENT
DTSTART;TZID=Europe/Amsterdam:20241120T190000
DTEND;TZID=Europe/Amsterdam:20241120T190000
DTSTAMP:20260419T140629
CREATED:20240925T062118Z
LAST-MODIFIED:20240925T062132Z
UID:10000182-1732129200-1732129200@pv-vitalis.nl
SUMMARY:Ladiesnight 20 november
DESCRIPTION:Op dinsdag 19 november en woensdag 20 november 2024 organiseert de personeelsvereniging voor haar leden in samenwerking met Skopein een ladiesnight (film en tapas). \nDe Nederlandse film ‘De Z van Zus’ wordt gedraaid. \n                                                                      \nKosten       : € 22\,50 per persoon. \nAanvang   : 19.00  uur \nFilm start    :  21.15uur \nOrganisatie: \nMerlin Reinders           M.Reinders@skbwinterswijk.nl \nInschrijven via de website www.pv-vitalis.nl \nInschrijven vanaf 21 oktober tm 10 november. \nPer personeelslid is één introducé toegestaan. \nMaximaal 70 personen voor dinsdag avond en maximaal 80 personen voor de woensdag avond. \nNeem je ticket geprint of digitaal mee naar de ladiesnight. \nStuur even een mailtje naar: m.reinders@skbwinterswijk.nl als: \n\nJe een dieetwens hebt\nJe graag met een groepje bij elkaar wilt zitten.\nDe inschrijving vol is en je op de reservelijst geplaatst wilt worden.
URL:https://pv-vitalis.nl/evenement/ladiesnight-20-november/
LOCATION:Skopein\, Meddosestraat 6-8\, 7101CV
ORGANIZER;CN="Merlin Reinders":MAILTO:M.Reinders@skbwinterswijk.nl
END:VEVENT
END:VCALENDAR