BEGIN:VCALENDAR
VERSION:2.0
PRODID:-//Vitalis - ECPv6.15.20//NONSGML v1.0//EN
CALSCALE:GREGORIAN
METHOD:PUBLISH
X-ORIGINAL-URL:https://pv-vitalis.nl
X-WR-CALDESC:Evenementen voor Vitalis
REFRESH-INTERVAL;VALUE=DURATION:PT1H
X-Robots-Tag:noindex
X-PUBLISHED-TTL:PT1H
BEGIN:VTIMEZONE
TZID:Europe/Amsterdam
BEGIN:DAYLIGHT
TZOFFSETFROM:+0100
TZOFFSETTO:+0200
TZNAME:CEST
DTSTART:20230326T010000
END:DAYLIGHT
BEGIN:STANDARD
TZOFFSETFROM:+0200
TZOFFSETTO:+0100
TZNAME:CET
DTSTART:20231029T010000
END:STANDARD
BEGIN:DAYLIGHT
TZOFFSETFROM:+0100
TZOFFSETTO:+0200
TZNAME:CEST
DTSTART:20240331T010000
END:DAYLIGHT
BEGIN:STANDARD
TZOFFSETFROM:+0200
TZOFFSETTO:+0100
TZNAME:CET
DTSTART:20241027T010000
END:STANDARD
BEGIN:DAYLIGHT
TZOFFSETFROM:+0100
TZOFFSETTO:+0200
TZNAME:CEST
DTSTART:20250330T010000
END:DAYLIGHT
BEGIN:STANDARD
TZOFFSETFROM:+0200
TZOFFSETTO:+0100
TZNAME:CET
DTSTART:20251026T010000
END:STANDARD
END:VTIMEZONE
BEGIN:VEVENT
DTSTART;TZID=Europe/Amsterdam:20240221T190000
DTEND;TZID=Europe/Amsterdam:20240221T233000
DTSTAMP:20260420T044451
CREATED:20240101T103828Z
LAST-MODIFIED:20240101T104057Z
UID:10000158-1708542000-1708558200@pv-vitalis.nl
SUMMARY:Ladies Night (woensdag 21-02-2024)
DESCRIPTION:Op woensdag 21 februari en donderdag 22 februari 2024 organiseert de personeelsvereniging voor haar leden in samenwerking met Skopein een Ladies Night (film en tapas). \nDe Nederlandse film “Verliefd op Bali” wordt gedraaid. \n \n\n\n\nDatum:\nWoensdag 21-02-2024 (liever op  donderdag 22-02-2024? klik hier)\n\n\nTijd:\n19.00 tapas\, 21.15 start film Verliefd op Bali\n\n\nPrijs:\n€ 22\,50\n\n\nInschrijven:\n22-01-2024 t/m 09-02-2024\n\n\nAantal:\n75\, 1 introducee toegestaan\n\n\nLocatie:\nSkopein\n\n\n\nNeem je ticket geprint of digitaal mee.
URL:https://pv-vitalis.nl/evenement/ladies-night-woensdag-21-02-2024/
LOCATION:Skopein\, Meddosestraat 6-8\, 7101CV
ATTACH;FMTTYPE=image/png:https://pv-vitalis.nl/wp-content/uploads/2022/09/Skopein.png
ORGANIZER;CN="Linda Meijnen":MAILTO:l.meijnen@skbwinterswijk.nl
END:VEVENT
END:VCALENDAR