BEGIN:VCALENDAR
VERSION:2.0
PRODID:-//Vitalis - ECPv6.15.20//NONSGML v1.0//EN
CALSCALE:GREGORIAN
METHOD:PUBLISH
X-ORIGINAL-URL:https://pv-vitalis.nl
X-WR-CALDESC:Evenementen voor Vitalis
REFRESH-INTERVAL;VALUE=DURATION:PT1H
X-Robots-Tag:noindex
X-PUBLISHED-TTL:PT1H
BEGIN:VTIMEZONE
TZID:Europe/Amsterdam
BEGIN:DAYLIGHT
TZOFFSETFROM:+0100
TZOFFSETTO:+0200
TZNAME:CEST
DTSTART:20220327T010000
END:DAYLIGHT
BEGIN:STANDARD
TZOFFSETFROM:+0200
TZOFFSETTO:+0100
TZNAME:CET
DTSTART:20221030T010000
END:STANDARD
BEGIN:DAYLIGHT
TZOFFSETFROM:+0100
TZOFFSETTO:+0200
TZNAME:CEST
DTSTART:20230326T010000
END:DAYLIGHT
BEGIN:STANDARD
TZOFFSETFROM:+0200
TZOFFSETTO:+0100
TZNAME:CET
DTSTART:20231029T010000
END:STANDARD
BEGIN:DAYLIGHT
TZOFFSETFROM:+0100
TZOFFSETTO:+0200
TZNAME:CEST
DTSTART:20240331T010000
END:DAYLIGHT
BEGIN:STANDARD
TZOFFSETFROM:+0200
TZOFFSETTO:+0100
TZNAME:CET
DTSTART:20241027T010000
END:STANDARD
END:VTIMEZONE
BEGIN:VEVENT
DTSTART;TZID=Europe/Amsterdam:20231125T120000
DTEND;TZID=Europe/Amsterdam:20231125T190000
DTSTAMP:20260420T102514
CREATED:20231017T192419Z
LAST-MODIFIED:20231019T091223Z
UID:10000150-1700913600-1700938800@pv-vitalis.nl
SUMMARY:Country en Christmasfair
DESCRIPTION:Vitalis organiseert voor haar leden een gezellige dag naar de\nCountry & Christmas fair\nrondom slot Zeist \n\nDe gezelligheid van weelderige kerstbomen met lichtjes\, zilverslingers en glimmerballen. De geur van glühwein\, poffertjes en warme wafels. Het stemmige Dickens-koor. De vrolijke belletjes van Jingle Bells. Met een bezoek aan de Country & Christmas Fair komt u weer helemaal in de stemming! \n\n\nGenieten van de winterse sfeer. Wandelen langs de sfeervolle\, verwarmde stands met de mooiste brocante\, antiquiteiten\, sieraden\, outdoor kleding\, kerstcadeaus en de heerlijkste wijnen en delicatessen. Een verrukkelijk dagje uit in de mooiste tijd van het jaar! Ja u leest het goed de Country & Christmas Fair met als decor Slot Zeist. Bent u er klaar voor? Zet het in uw agenda. \n\n\n\nDatum:\nzaterdag 25 november\n\n\nTijd:\n12.00 vertrek vanaf SKB\, retour vanuit Zeist 19.00\n\n\nPrijs:\n€ 14\,00\n\n\nAanmelden:\n23-10-2023 t/m 06-11-2023\n\n\nAantal:\n100\, 1 introducé toegestaan (medewerkers van het SKB die geen lid zijn van de PV mogen niet mee als introducé)\n\n\nLocatie:\nSlot Zeist\n\n\n\nTickets voor toegang worden uitgereikt in de bus.
URL:https://pv-vitalis.nl/evenement/country-en-christmasfair-2/
LOCATION:Slot Zeist\, Zinzendorflaan 1\, Zeist\, 3703 CE
ATTACH;FMTTYPE=image/jpeg:https://pv-vitalis.nl/wp-content/uploads/2023/10/Afbeelding1.jpg
ORGANIZER;CN="Annette Meekes":MAILTO:A.G.Meekes@skbwinterswijk.nl
END:VEVENT
END:VCALENDAR