BEGIN:VCALENDAR
VERSION:2.0
PRODID:-//Vitalis - ECPv6.15.20//NONSGML v1.0//EN
CALSCALE:GREGORIAN
METHOD:PUBLISH
X-ORIGINAL-URL:https://pv-vitalis.nl
X-WR-CALDESC:Evenementen voor Vitalis
REFRESH-INTERVAL;VALUE=DURATION:PT1H
X-Robots-Tag:noindex
X-PUBLISHED-TTL:PT1H
BEGIN:VTIMEZONE
TZID:Europe/Amsterdam
BEGIN:DAYLIGHT
TZOFFSETFROM:+0100
TZOFFSETTO:+0200
TZNAME:CEST
DTSTART:20220327T010000
END:DAYLIGHT
BEGIN:STANDARD
TZOFFSETFROM:+0200
TZOFFSETTO:+0100
TZNAME:CET
DTSTART:20221030T010000
END:STANDARD
BEGIN:DAYLIGHT
TZOFFSETFROM:+0100
TZOFFSETTO:+0200
TZNAME:CEST
DTSTART:20230326T010000
END:DAYLIGHT
BEGIN:STANDARD
TZOFFSETFROM:+0200
TZOFFSETTO:+0100
TZNAME:CET
DTSTART:20231029T010000
END:STANDARD
BEGIN:DAYLIGHT
TZOFFSETFROM:+0100
TZOFFSETTO:+0200
TZNAME:CEST
DTSTART:20240331T010000
END:DAYLIGHT
BEGIN:STANDARD
TZOFFSETFROM:+0200
TZOFFSETTO:+0100
TZNAME:CET
DTSTART:20241027T010000
END:STANDARD
END:VTIMEZONE
BEGIN:VEVENT
DTSTART;VALUE=DATE:20231110
DTEND;VALUE=DATE:20231113
DTSTAMP:20260420T102513
CREATED:20230323T134534Z
LAST-MODIFIED:20230529T065259Z
UID:10000137-1699574400-1699833599@pv-vitalis.nl
SUMMARY:Weekend trip naar Hamburg 10-11-12 November 2023
DESCRIPTION:PV Vitalis organiseert voor haar leden een weekend trip naar Hamburg.\nDatum: 10-11-12 November 2023\nWe gaan overnachten in het Mercure Hotel Hamburg City \n \nPrijs: € 225\,00 per persoon op basis van een 2 persoons kamer.\nToeslag 1 pers. kamer €125\,00 \nDeze reis is inclusief: \n* Vervoer per luxe touringcar\n* 2 Overnachtingen in 2-persoonskamers in Mercure hotel Hamburg City o.b.v. logies en ontbijt\n*  City****. Stadtrundfahrt van 2 uur  onder begeleiding van een gids \nExclusief:  \n* Reis- en annuleringsverzekering\n* Overige maaltijden\n* Uitgaven van persoonlijke aard\n* Optionele excursies en entreegelden \nAccommodatie: \nHet gerenoveerde hotel ligt in het hart van Hamburg: dicht bij het stadscentrum\, Harry Potter Theater op 800 m en het centraal station ligt op 1\,5 km.\nDe luchthaven ligt op 12 km afstand.\nDe S-Bahn is dichtbij.\nDe haven van Hamburg is al eeuwenlang het centrum van de stad.\nDankzij goede openbaar vervoerverbindingen zijn alle bestemmingen in Hamburg eenvoudig bereikbaar.\nDe haven is al eeuwenlang het centrum van de stad\, het is de reden voor de grote rijkdom en unieke cultuur van de Hanzestad\, met de bourgeoisie van de voorsteden langs de Elbe\, St. Pauli en het wilde nachtleven rond de Reeperbahn. \n Globaal programma: \n\nVrijdagmorgen vertrekken om 07.30 uur vanaf SKB\nBij aankomst in Hamburg pauze in een restaurant om wat te kunnen eten/drinken aansluitend een City tour van 2u.\nEinde tour inchecken hotel\nZaterdag vrij te besteden\nZondagmorgen vertrek na ontbijt richting Winterswijk\n\nInschrijven: \n\nVia mail naar personeelsvereniging@skbwinterswijk.nl dat kan tot 31 Mei\n1 introducee is toegestaan\nBij min. 40 personen kan de reis doorgaan u ontvangt een nota\n(max 50 pers. dan gaat de volgorde van opgave!!)
URL:https://pv-vitalis.nl/evenement/weekend-trip-naar-hamburg-10-11-12-november-2023/
ATTACH;FMTTYPE=image/jpeg:https://pv-vitalis.nl/wp-content/uploads/2023/03/hamburg.jpg
ORGANIZER;CN="Annette Meekes":MAILTO:A.G.Meekes@skbwinterswijk.nl
END:VEVENT
END:VCALENDAR