BEGIN:VCALENDAR
VERSION:2.0
PRODID:-//Vitalis - ECPv6.15.20//NONSGML v1.0//EN
CALSCALE:GREGORIAN
METHOD:PUBLISH
X-WR-CALNAME:Vitalis
X-ORIGINAL-URL:https://pv-vitalis.nl
X-WR-CALDESC:Evenementen voor Vitalis
REFRESH-INTERVAL;VALUE=DURATION:PT1H
X-Robots-Tag:noindex
X-PUBLISHED-TTL:PT1H
BEGIN:VTIMEZONE
TZID:Europe/Amsterdam
BEGIN:DAYLIGHT
TZOFFSETFROM:+0100
TZOFFSETTO:+0200
TZNAME:CEST
DTSTART:20220327T010000
END:DAYLIGHT
BEGIN:STANDARD
TZOFFSETFROM:+0200
TZOFFSETTO:+0100
TZNAME:CET
DTSTART:20221030T010000
END:STANDARD
BEGIN:DAYLIGHT
TZOFFSETFROM:+0100
TZOFFSETTO:+0200
TZNAME:CEST
DTSTART:20230326T010000
END:DAYLIGHT
BEGIN:STANDARD
TZOFFSETFROM:+0200
TZOFFSETTO:+0100
TZNAME:CET
DTSTART:20231029T010000
END:STANDARD
BEGIN:DAYLIGHT
TZOFFSETFROM:+0100
TZOFFSETTO:+0200
TZNAME:CEST
DTSTART:20240331T010000
END:DAYLIGHT
BEGIN:STANDARD
TZOFFSETFROM:+0200
TZOFFSETTO:+0100
TZNAME:CET
DTSTART:20241027T010000
END:STANDARD
END:VTIMEZONE
BEGIN:VEVENT
DTSTART;TZID=Europe/Amsterdam:20231103T200000
DTEND;TZID=Europe/Amsterdam:20231103T233000
DTSTAMP:20260420T102406
CREATED:20230928T132445Z
LAST-MODIFIED:20231027T115854Z
UID:10000148-1699041600-1699054200@pv-vitalis.nl
SUMMARY:Bingo 2023
DESCRIPTION:Vanaf 23 oktober nog een aantal plaatsen beschikbaar!! \nPersoneelsvereniging Vitalis organiseert voor haar leden weer de jaarlijkse BINGO-AVOND \nHoofdprijs:  een grote verrassing ! \nEr worden 10 ronden gespeeld. De hoofdprijs gaat er in de laatste ronde uit! \nVitalis biedt iedere deelnemer 2 consumpties aan. Mocht je meer drankjes willen hebben kun je deze bestellen aan de bar.\nLet op: Uw eigen drankjes meenemen is niet meer toegestaan ! \n\n\n\nDatum:\nVrijdag 3 november 2023\n\n\nTijd:\n20.00\, zaal open 19.30\n\n\nInschrijven\n12-10-2023\, 09.00 t/m 23-10-2022\, 12.00\n\n\nAantal personen:\n160\, géén introducee\n\n\nKosten:\n€ 10 per boekje\n\n\nLocatie:\nVerenigingsgebouw Wilhelmina\, Meester Meinenweg 1\, 7107AN Winterswijk Kotten\n\n\n\n  \nBingoboekjes worden op naam uitgedeeld bij de zaal. Dat betekent dat je zelf de ticket moet kopen om als deelnemer ingeschreven te zijn.\nBij inschrijven krijg je koop je 1 boekje. Wil je meer boekjes kan je die op 3 november\, met contant betalen\, kopen bij de ingang. \nSta je niet op de deelnemerslijst\, is er geen plaats voor je gereserveerd!
URL:https://pv-vitalis.nl/evenement/bingo-2023/
LOCATION:Verenigingsgebouw Wilhelmina\, Meester Meinenweg 1\, Winterswijk Kotten\, 7107AN
ATTACH;FMTTYPE=image/jpeg:https://pv-vitalis.nl/wp-content/uploads/2022/10/Bingokaart.jpg
ORGANIZER;CN="Jan Willekes":MAILTO:j.willekes@kpnmail.nl
END:VEVENT
END:VCALENDAR