BEGIN:VCALENDAR
VERSION:2.0
PRODID:-//Vitalis - ECPv6.15.20//NONSGML v1.0//EN
CALSCALE:GREGORIAN
METHOD:PUBLISH
X-ORIGINAL-URL:https://pv-vitalis.nl
X-WR-CALDESC:Evenementen voor Vitalis
REFRESH-INTERVAL;VALUE=DURATION:PT1H
X-Robots-Tag:noindex
X-PUBLISHED-TTL:PT1H
BEGIN:VTIMEZONE
TZID:Europe/Amsterdam
BEGIN:DAYLIGHT
TZOFFSETFROM:+0100
TZOFFSETTO:+0200
TZNAME:CEST
DTSTART:20220327T010000
END:DAYLIGHT
BEGIN:STANDARD
TZOFFSETFROM:+0200
TZOFFSETTO:+0100
TZNAME:CET
DTSTART:20221030T010000
END:STANDARD
BEGIN:DAYLIGHT
TZOFFSETFROM:+0100
TZOFFSETTO:+0200
TZNAME:CEST
DTSTART:20230326T010000
END:DAYLIGHT
BEGIN:STANDARD
TZOFFSETFROM:+0200
TZOFFSETTO:+0100
TZNAME:CET
DTSTART:20231029T010000
END:STANDARD
BEGIN:DAYLIGHT
TZOFFSETFROM:+0100
TZOFFSETTO:+0200
TZNAME:CEST
DTSTART:20240331T010000
END:DAYLIGHT
BEGIN:STANDARD
TZOFFSETFROM:+0200
TZOFFSETTO:+0100
TZNAME:CET
DTSTART:20241027T010000
END:STANDARD
END:VTIMEZONE
BEGIN:VEVENT
DTSTART;TZID=Europe/Amsterdam:20231006T080000
DTEND;TZID=Europe/Amsterdam:20231006T180000
DTSTAMP:20260420T114423
CREATED:20230802T162728Z
LAST-MODIFIED:20230921T104252Z
UID:10000143-1696579200-1696615200@pv-vitalis.nl
SUMMARY:Dagtocht Breda
DESCRIPTION:De personeelsvereniging organiseert voor haar leden een dagtocht naar Breda \nBij aankomst genieten we eerst\, rond 10.30u\, van een kop koffie met gebak bij  Popocatépetl Mexicaans café restaurant. \nVanaf Popocatépetl\, 3 minuten lopen naar Kasteel van Breda\, heeft U de tijd om de dag vrij te besteden. U kunt naar de website www.welkominbreda.nl gaan voor allerlei tips. De stad staat bekend om zijn gastvrije\, met klinkers geplaveide binnenstad\, een paradijs voor shoppers en foodies. De vele historische gevels en panden geven elke straat een bijzonder uiterlijk. Rondvaart van 60 min. kunt U online via de site boeken voor €12\,50. Als U van ons tips wil\, vraag gerust. \n\n\n\nDatum:\nVrijdag 6 oktober 2023\n\n\nTijd:\nvertrek SKB 08.00 uur  / Vertrek Breda rond 18.00 uur\n\n\nPrijs:\n€ 5\,00\n\n\nAanmelden:\n21-08-2023 t/m 04-09-2023\n\n\nAantal:\n95\, 1 introducé toegestaan\n\n\nLocatie:\nBreda
URL:https://pv-vitalis.nl/evenement/dagtocht-breda/
ATTACH;FMTTYPE=image/png:https://pv-vitalis.nl/wp-content/uploads/2023/08/plattegrond-breda.png
ORGANIZER;CN="Linda Meijnen":MAILTO:l.meijnen@skbwinterswijk.nl
END:VEVENT
END:VCALENDAR