BEGIN:VCALENDAR
VERSION:2.0
PRODID:-//Vitalis - ECPv6.15.20//NONSGML v1.0//EN
CALSCALE:GREGORIAN
METHOD:PUBLISH
X-WR-CALNAME:Vitalis
X-ORIGINAL-URL:https://pv-vitalis.nl
X-WR-CALDESC:Evenementen voor Vitalis
REFRESH-INTERVAL;VALUE=DURATION:PT1H
X-Robots-Tag:noindex
X-PUBLISHED-TTL:PT1H
BEGIN:VTIMEZONE
TZID:Europe/Amsterdam
BEGIN:DAYLIGHT
TZOFFSETFROM:+0100
TZOFFSETTO:+0200
TZNAME:CEST
DTSTART:20220327T010000
END:DAYLIGHT
BEGIN:STANDARD
TZOFFSETFROM:+0200
TZOFFSETTO:+0100
TZNAME:CET
DTSTART:20221030T010000
END:STANDARD
BEGIN:DAYLIGHT
TZOFFSETFROM:+0100
TZOFFSETTO:+0200
TZNAME:CEST
DTSTART:20230326T010000
END:DAYLIGHT
BEGIN:STANDARD
TZOFFSETFROM:+0200
TZOFFSETTO:+0100
TZNAME:CET
DTSTART:20231029T010000
END:STANDARD
BEGIN:DAYLIGHT
TZOFFSETFROM:+0100
TZOFFSETTO:+0200
TZNAME:CEST
DTSTART:20240331T010000
END:DAYLIGHT
BEGIN:STANDARD
TZOFFSETFROM:+0200
TZOFFSETTO:+0100
TZNAME:CET
DTSTART:20241027T010000
END:STANDARD
END:VTIMEZONE
BEGIN:VEVENT
DTSTART;TZID=Europe/Amsterdam:20230602T164500
DTEND;TZID=Europe/Amsterdam:20230602T220000
DTSTAMP:20260420T171049
CREATED:20230503T065619Z
LAST-MODIFIED:20230503T070335Z
UID:10000138-1685724300-1685743200@pv-vitalis.nl
SUMMARY:Zomerfeest 2023
DESCRIPTION:Vrijdag 2 juni 2023\nWaar is het feestje … hier is het feestje ! \nPersoneelsvereniging Vitalis organiseert samen met het SKB een gezellig zomerfeest.\nLeden van de PV Vitalis en alle medewerkers van het SKB zijn van harte welkom \n\nDe band Curls On Fire zal de muziek verzorgen (klik hier voor de promo) \nAanvang: 17.00 uur. \nZaal open om 16.45u.\nEinde: 22.00u.(eten en drinken tot 22.00u gratis !) \nLocatie:\nSteakhouse Vivaldi\nHaartweg 2\n7109 BJ Winterswijk-Miste \nOpgave:\nI.v.m het eten willen wij graag weten hoeveel mensen er komen.\nJe kunt je inschrijven via inschrijflijst bij de centrale receptie vanaf maandag 8 Mei tm Vrijdag 19 Mei \,om de receptionistes niet te belasten niet telefonisch doorgeven.\nWij bieden jullie de mogelijkheid om met de bus heen en terug te gaan vanaf SKB/Vivaldi.\nGeef het tijdstip aan op de inschrijflijst wanneer je mee zou willen “reizen” \nVoor vragen of doorgeven van een speciaal dieet kun je terecht bij a.g.meekes@skbwinterswijk.nl
URL:https://pv-vitalis.nl/evenement/zomerfeest-2023/
LOCATION:Steakhouse Vivaldi\, Haartweg 2\, Winterswijk-Miste\, 7109 BJ
ORGANIZER;CN="Annette Meekes":MAILTO:A.G.Meekes@skbwinterswijk.nl
END:VEVENT
END:VCALENDAR