BEGIN:VCALENDAR
VERSION:2.0
PRODID:-//Vitalis - ECPv6.15.20//NONSGML v1.0//EN
CALSCALE:GREGORIAN
METHOD:PUBLISH
X-WR-CALNAME:Vitalis
X-ORIGINAL-URL:https://pv-vitalis.nl
X-WR-CALDESC:Evenementen voor Vitalis
REFRESH-INTERVAL;VALUE=DURATION:PT1H
X-Robots-Tag:noindex
X-PUBLISHED-TTL:PT1H
BEGIN:VTIMEZONE
TZID:Europe/Amsterdam
BEGIN:DAYLIGHT
TZOFFSETFROM:+0100
TZOFFSETTO:+0200
TZNAME:CEST
DTSTART:20220327T010000
END:DAYLIGHT
BEGIN:STANDARD
TZOFFSETFROM:+0200
TZOFFSETTO:+0100
TZNAME:CET
DTSTART:20221030T010000
END:STANDARD
BEGIN:DAYLIGHT
TZOFFSETFROM:+0100
TZOFFSETTO:+0200
TZNAME:CEST
DTSTART:20230326T010000
END:DAYLIGHT
BEGIN:STANDARD
TZOFFSETFROM:+0200
TZOFFSETTO:+0100
TZNAME:CET
DTSTART:20231029T010000
END:STANDARD
BEGIN:DAYLIGHT
TZOFFSETFROM:+0100
TZOFFSETTO:+0200
TZNAME:CEST
DTSTART:20240331T010000
END:DAYLIGHT
BEGIN:STANDARD
TZOFFSETFROM:+0200
TZOFFSETTO:+0100
TZNAME:CET
DTSTART:20241027T010000
END:STANDARD
END:VTIMEZONE
BEGIN:VEVENT
DTSTART;TZID=Europe/Amsterdam:20230420T200000
DTEND;TZID=Europe/Amsterdam:20230420T200000
DTSTAMP:20260420T195314
CREATED:20230212T203050Z
LAST-MODIFIED:20230212T220034Z
UID:10000131-1682020800-1682020800@pv-vitalis.nl
SUMMARY:Intern Bowlingbal toernooi 2023
DESCRIPTION:De p.v. Vitalis organiseert op donderdag 20 april en vrijdag 21 april voor haar leden een interne bowlingcompetitie\, waarbij de onderlinge afdelingen of combinatie van afdelingen gaan strijden om de eer wie zich de beste bowler(ster) en wie het beste bowlingteam van het SKB heeft. \nVoor de winnaars zijn er mooie prijzen\, waaronder ook een beker voor de beste bowler en bowlster en voor het beste team van die avond en ook een overal klassement van alle avonden.\nEr zijn 5 bowlingbanen beschikbaar en per baan/team kunnen zich 8 personen opgeven. Dat betekent dus\, dat er zich max 5 teams per avond kunnen inschrijven! \nDe  personeelsvereniging Vitalis zal zorgen voor een hapje en een drankje. \nInschrijven als team vanaf maandag 27 februari  a.s. bij de centrale receptie via een inschrijfformulier\, waarbij je de teamnaam\, afdeling(en) en namen per team vermeld! \nAan het eind van de avond prijsuitreiking. \n\n\n\nDatum:\ndonderdag 20 en vrijdag 21 april\n\n\nTijd:\n20.00\, inloop vanaf 19.30\n\n\nPrijs:\ngratis\n\n\nAanmelden:\n27-02-2023 t/m 27-03-2023\, opgeven middels inschrijflijst bij de receptie\n\n\nAantal:\nonbeperkt\n\n\nLocatie:\nKartbaan Winterswijk\n\n\n\nBij vragen kun je terecht bij de organisatoren
URL:https://pv-vitalis.nl/evenement/intern-bowlingbal-toernooi-2023/
LOCATION:Kartbaan Winterswijk\, Tinbergenstraat 3\, Winterswijk\, 7102JK
ATTACH;FMTTYPE=image/png:https://pv-vitalis.nl/wp-content/uploads/2022/07/Bowlen.png
ORGANIZER;CN="Roel Bulthuis":MAILTO:R.Bulthuis@skbwinterswijk.nl
END:VEVENT
END:VCALENDAR