BEGIN:VCALENDAR
VERSION:2.0
PRODID:-//Vitalis - ECPv6.15.20//NONSGML v1.0//EN
CALSCALE:GREGORIAN
METHOD:PUBLISH
X-WR-CALNAME:Vitalis
X-ORIGINAL-URL:https://pv-vitalis.nl
X-WR-CALDESC:Evenementen voor Vitalis
REFRESH-INTERVAL;VALUE=DURATION:PT1H
X-Robots-Tag:noindex
X-PUBLISHED-TTL:PT1H
BEGIN:VTIMEZONE
TZID:Europe/Amsterdam
BEGIN:DAYLIGHT
TZOFFSETFROM:+0100
TZOFFSETTO:+0200
TZNAME:CEST
DTSTART:20220327T010000
END:DAYLIGHT
BEGIN:STANDARD
TZOFFSETFROM:+0200
TZOFFSETTO:+0100
TZNAME:CET
DTSTART:20221030T010000
END:STANDARD
BEGIN:DAYLIGHT
TZOFFSETFROM:+0100
TZOFFSETTO:+0200
TZNAME:CEST
DTSTART:20230326T010000
END:DAYLIGHT
BEGIN:STANDARD
TZOFFSETFROM:+0200
TZOFFSETTO:+0100
TZNAME:CET
DTSTART:20231029T010000
END:STANDARD
BEGIN:DAYLIGHT
TZOFFSETFROM:+0100
TZOFFSETTO:+0200
TZNAME:CEST
DTSTART:20240331T010000
END:DAYLIGHT
BEGIN:STANDARD
TZOFFSETFROM:+0200
TZOFFSETTO:+0100
TZNAME:CET
DTSTART:20241027T010000
END:STANDARD
END:VTIMEZONE
BEGIN:VEVENT
DTSTART;TZID=Europe/Amsterdam:20230322T190000
DTEND;TZID=Europe/Amsterdam:20230322T190000
DTSTAMP:20260420T211841
CREATED:20230121T124610Z
LAST-MODIFIED:20240101T103005Z
UID:10000117-1679511600-1679511600@pv-vitalis.nl
SUMMARY:Ladies Night (woensdag 22-03-2023)
DESCRIPTION:Op woensdag 22 maart\, donderdag 23 maarten woensdag 29 maart 2023 organiseert de personeelsvereniging voor haar leden in samenwerking met Skopein een Ladies Night (film en tapas). De Nederlandse film “All inclusive” wordt gedraaid. \n \n\n\n\nDatum:\nWoensdag 22-03-2023 (ook donderdag 23-03-2-23)\n\n\nTijd:\n19.00 tapas\, 21.15 start film All Inclusive\n\n\nPrijs:\n€ 22\,50\n\n\nAanmelden:\nt/m vrijdag 10-03-2023\n\n\nAantal:\n76\, 1 introducee toegestaan\n\n\nLocatie:\nSkopein\n\n\n\nEen kopie van betaling is bewijs voor toegang tot de Ladies Night.  
URL:https://pv-vitalis.nl/evenement/ladies-night-woensdag-22-03-2023/
LOCATION:Skopein\, Meddosestraat 6-8\, 7101CV
ATTACH;FMTTYPE=image/jpeg:https://pv-vitalis.nl/wp-content/uploads/2023/01/Skopein.jpg
ORGANIZER;CN="Jose de Jong":MAILTO:l.j.dejong@skbwinterswijk.nl
END:VEVENT
END:VCALENDAR