BEGIN:VCALENDAR
VERSION:2.0
PRODID:-//Vitalis - ECPv6.15.20//NONSGML v1.0//EN
CALSCALE:GREGORIAN
METHOD:PUBLISH
X-WR-CALNAME:Vitalis
X-ORIGINAL-URL:https://pv-vitalis.nl
X-WR-CALDESC:Evenementen voor Vitalis
REFRESH-INTERVAL;VALUE=DURATION:PT1H
X-Robots-Tag:noindex
X-PUBLISHED-TTL:PT1H
BEGIN:VTIMEZONE
TZID:Europe/Amsterdam
BEGIN:DAYLIGHT
TZOFFSETFROM:+0100
TZOFFSETTO:+0200
TZNAME:CEST
DTSTART:20220327T010000
END:DAYLIGHT
BEGIN:STANDARD
TZOFFSETFROM:+0200
TZOFFSETTO:+0100
TZNAME:CET
DTSTART:20221030T010000
END:STANDARD
BEGIN:DAYLIGHT
TZOFFSETFROM:+0100
TZOFFSETTO:+0200
TZNAME:CEST
DTSTART:20230326T010000
END:DAYLIGHT
BEGIN:STANDARD
TZOFFSETFROM:+0200
TZOFFSETTO:+0100
TZNAME:CET
DTSTART:20231029T010000
END:STANDARD
BEGIN:DAYLIGHT
TZOFFSETFROM:+0100
TZOFFSETTO:+0200
TZNAME:CEST
DTSTART:20240331T010000
END:DAYLIGHT
BEGIN:STANDARD
TZOFFSETFROM:+0200
TZOFFSETTO:+0100
TZNAME:CET
DTSTART:20241027T010000
END:STANDARD
END:VTIMEZONE
BEGIN:VEVENT
DTSTART;TZID=Europe/Amsterdam:20230101T080000
DTEND;TZID=Europe/Amsterdam:20230101T080000
DTSTAMP:20260420T234652
CREATED:20230213T102535Z
LAST-MODIFIED:20240101T113851Z
UID:10000121-1672560000-1672560000@pv-vitalis.nl
SUMMARY:Bioscoopbonnen
DESCRIPTION:Dit jaar hebben we gekozen voor een andere opzet van de bioscoopactie van Vitalis/Skopein. \nDe kaarten die je kan kopen via de website van Vitalis zijn het hele jaar 2023 geldig. Zo heb je langer de tijd om naar een leuke film te gaan! \nDe opzet van de actie is: \n\nVitalisleden kunnen maximaal 12 filmkaarten bestellen à € 8\,00 per kaart\, deze kaarten hebben een waarde van € 12\,00 per kaart.\n(Skopein en Vitalis geven elk een korting van € 2\,00.)\nKinderfilms zijn inclusief frisdrank\, koffie of thee.\nMet deze “Filmkaarten” kunnen Vitalisleden vanaf 1 april 2023 t/m 7 januari 2024 naar de bioscoop Skopein\nOp de kaart staat je personeelsnummer. De actie is bedoeld voor leden van de personeelsvereniging. Bij gebruik moet de persoon aanwezig zijn met zijn/haar personeelspas.\nWanneer je reserveert via de site van Skopein\, geef dan bij afrekenen aan dat je bij de kassa wilt betalen.\nNiet gebruikte kaarten kunnen niet meer ingeleverd worden bij de personeelsvereniging.\n\n\n\n\nDatum:\nbonnen te gebruiken van 1 april 2023 t/m 7 januari 2024\n\n\nPrijs:\n€ 8\,00 per bioscoopbon\n\n\nBestellen:\nwoensdag 01-03-2023 t/m zondag 19-03-2023\n\n\nAantal:\nmaximaal 12 bioscoopbonnen\n\n\nLocatie:\nSkopein\n\n\n\n\n\n\n\nVanaf 27 maart kunnen de kaarten opgehaald worden bij de receptie.
URL:https://pv-vitalis.nl/evenement/bioscoopbonnen/
LOCATION:Skopein\, Meddosestraat 6-8\, 7101CV
ATTACH;FMTTYPE=image/png:https://pv-vitalis.nl/wp-content/uploads/2022/09/Skopein.png
ORGANIZER;CN="Saskia Velders":MAILTO:S.Velders@skbwinterswijk.nl
END:VEVENT
END:VCALENDAR