BEGIN:VCALENDAR
VERSION:2.0
PRODID:-//Vitalis - ECPv6.15.20//NONSGML v1.0//EN
CALSCALE:GREGORIAN
METHOD:PUBLISH
X-ORIGINAL-URL:https://pv-vitalis.nl
X-WR-CALDESC:Evenementen voor Vitalis
REFRESH-INTERVAL;VALUE=DURATION:PT1H
X-Robots-Tag:noindex
X-PUBLISHED-TTL:PT1H
BEGIN:VTIMEZONE
TZID:Europe/Amsterdam
BEGIN:DAYLIGHT
TZOFFSETFROM:+0100
TZOFFSETTO:+0200
TZNAME:CEST
DTSTART:20210328T010000
END:DAYLIGHT
BEGIN:STANDARD
TZOFFSETFROM:+0200
TZOFFSETTO:+0100
TZNAME:CET
DTSTART:20211031T010000
END:STANDARD
BEGIN:DAYLIGHT
TZOFFSETFROM:+0100
TZOFFSETTO:+0200
TZNAME:CEST
DTSTART:20220327T010000
END:DAYLIGHT
BEGIN:STANDARD
TZOFFSETFROM:+0200
TZOFFSETTO:+0100
TZNAME:CET
DTSTART:20221030T010000
END:STANDARD
BEGIN:DAYLIGHT
TZOFFSETFROM:+0100
TZOFFSETTO:+0200
TZNAME:CEST
DTSTART:20230326T010000
END:DAYLIGHT
BEGIN:STANDARD
TZOFFSETFROM:+0200
TZOFFSETTO:+0100
TZNAME:CET
DTSTART:20231029T010000
END:STANDARD
END:VTIMEZONE
BEGIN:VEVENT
DTSTART;VALUE=DATE:20221001
DTEND;VALUE=DATE:20230101
DTSTAMP:20260421T021754
CREATED:20220915T142132Z
LAST-MODIFIED:20220925T081910Z
UID:10000103-1664582400-1672531199@pv-vitalis.nl
SUMMARY:Bioscoopactie
DESCRIPTION:Ook dit najaar hebben we weer een bioscoopactie van Vitalis/Skopein. \nDeze actie loopt van 1 okt tm 31 dec 2022. \nDe opzet: \n\nVitalisleden kunnen filmkaarten bestellen a € 8\,00 per kaart\, deze kaarten hebben een waarde van € 12\,00 per kaart. (Skopein en Vitalis geven elk een korting van € 2\,00.)\nMet deze “Filmkaarten” kunnen Vitalisleden in de maanden okt\, nov en dec naar de film. (De bioscoop mag geen korting geven op de film AVATAR deel 2\, de filmkaarten kunnen om die reden niet gebruikt worden voor deze film)\nLet wel:\nOp de kaart staat je personeelsnummer. De actie is bedoeld voor leden van de personeelsvereniging. Bij gebruik (ineens of in delen) moet de persoon aanwezig zijn met zijn/haar personeelspas.\nWanneer je reserveert via de site van Skopein\, geef dan bij afrekenen aan dat je bij de kassa wilt betalen.\nNiet gebruikte kaarten kunnen niet meer ingeleverd worden bij de personeelsvereniging.\n\n\n\n\nDatum:\nkaarten kunnen gebruikt worden  in de maanden oktober\, november\, december\n\n\nPrijs:\n€ 8\,00 per kaart\n\n\nInschrijven:\n16-09-2022 t/m 28-09-2022\, inschrijflijst bij de centrale receptie\n\n\n\nmaximaal 6 kaarten per lid\n\n\nKaarten ophalen:\nvanaf 1 oktober bij de centrale receptie\n\n\nBetaling:\nvia salaris\n\n\n\n 
URL:https://pv-vitalis.nl/evenement/bioscoopactie/
LOCATION:Skopein\, Meddosestraat 6-8\, 7101CV
ATTACH;FMTTYPE=image/png:https://pv-vitalis.nl/wp-content/uploads/2022/09/Skopein.png
ORGANIZER;CN="Ingrid Roessink":MAILTO:ingridroessink@gmail.com
END:VEVENT
BEGIN:VEVENT
DTSTART;TZID=Europe/Amsterdam:20221106T103000
DTEND;TZID=Europe/Amsterdam:20221106T200000
DTSTAMP:20260421T021754
CREATED:20220603T100711Z
LAST-MODIFIED:20221017T095520Z
UID:10000091-1667730600-1667764800@pv-vitalis.nl
SUMMARY:Soldaat van Oranje
DESCRIPTION:Soldaat van Oranje\nSoldaat van Oranje – De Musical is gebaseerd op het waargebeurde verhaal van één van onze grootste verzetsstrijders: Erik Hazelhoff Roelfzema.\nHet publiek beleeft de voorstelling\, met inmiddels meer dan 3\,2 miljoen bezoekers\, in een 360 graden draaiende theaterzaal en wordt zo het verhaal ingetrokken. \n\n\n\nDatum:\n06-11-2022\n\n\nTijd:\n14.00\n\n\nVertrek bus bij SKB:\n09.30\n\n\nPrijs:\n€70\, 1ste rang\n\n\nInschrijven:\n07-06-2022 t/m012-06-2022\n\n\nAantal:\nmaximaal 2 kaarten p.p.\, inclusief 1 introducee\n\n\n\nBij vragen gelieve contact opnemen met de organisator. \nTijd vertrek met de bus is aangepast naar 09.30
URL:https://pv-vitalis.nl/evenement/soldaat-van-oranje/
LOCATION:Theater Hangaar\, 1e Mientlaan 75\, Katwijk aan Zee\, 2223 LA
ATTACH;FMTTYPE=image/png:https://pv-vitalis.nl/wp-content/uploads/2022/06/Soldaat-van-Oranje.png
ORGANIZER;CN="Ingrid Roessink":MAILTO:ingridroessink@gmail.com
END:VEVENT
END:VCALENDAR