BEGIN:VCALENDAR
VERSION:2.0
PRODID:-//Vitalis - ECPv6.15.20//NONSGML v1.0//EN
CALSCALE:GREGORIAN
METHOD:PUBLISH
X-WR-CALNAME:Vitalis
X-ORIGINAL-URL:https://pv-vitalis.nl
X-WR-CALDESC:Evenementen voor Vitalis
REFRESH-INTERVAL;VALUE=DURATION:PT1H
X-Robots-Tag:noindex
X-PUBLISHED-TTL:PT1H
BEGIN:VTIMEZONE
TZID:Europe/Amsterdam
BEGIN:DAYLIGHT
TZOFFSETFROM:+0100
TZOFFSETTO:+0200
TZNAME:CEST
DTSTART:20210328T010000
END:DAYLIGHT
BEGIN:STANDARD
TZOFFSETFROM:+0200
TZOFFSETTO:+0100
TZNAME:CET
DTSTART:20211031T010000
END:STANDARD
BEGIN:DAYLIGHT
TZOFFSETFROM:+0100
TZOFFSETTO:+0200
TZNAME:CEST
DTSTART:20220327T010000
END:DAYLIGHT
BEGIN:STANDARD
TZOFFSETFROM:+0200
TZOFFSETTO:+0100
TZNAME:CET
DTSTART:20221030T010000
END:STANDARD
BEGIN:DAYLIGHT
TZOFFSETFROM:+0100
TZOFFSETTO:+0200
TZNAME:CEST
DTSTART:20230326T010000
END:DAYLIGHT
BEGIN:STANDARD
TZOFFSETFROM:+0200
TZOFFSETTO:+0100
TZNAME:CET
DTSTART:20231029T010000
END:STANDARD
END:VTIMEZONE
BEGIN:VEVENT
DTSTART;TZID=Europe/Amsterdam:20220813T160000
DTEND;TZID=Europe/Amsterdam:20220813T170000
DTSTAMP:20260421T062143
CREATED:20220516T114139Z
LAST-MODIFIED:20220603T111727Z
UID:10000089-1660406400-1660410000@pv-vitalis.nl
SUMMARY:Kortingsactie De Freule Steengroevetheater
DESCRIPTION:PV Vitalis organiseert voor haar leden : \nMet korting naar de voorstelling De Freule in het steengroeve theater \nDe voorstellingen zijn op dinsdag 9\, woensdag 10\, vrijdag 12 en zaterdag 13 augustus.\n(zie ook https://steengroevetheater.nl) \nIeder lid van PV Vitalis kan 7.50 euro korting per kaartje krijgen (maximaal 2 kaartjes per PV lid)\nHiervoor moet een bewijs van betaling gemaild worden voor 1 aug naar: \nS.Velders@skbwinterswijk.nl met vermelding van de naam\, personeelsnummer en het bankrekeningnummer. \nHet geld zal in augustus overgemaakt worden.
URL:https://pv-vitalis.nl/evenement/1053/
ATTACH;FMTTYPE=image/jpeg:https://pv-vitalis.nl/wp-content/uploads/2022/05/Freule.jpg
ORGANIZER;CN="Saskia Velders":MAILTO:S.Velders@skbwinterswijk.nl
END:VEVENT
END:VCALENDAR