BEGIN:VCALENDAR
VERSION:2.0
PRODID:-//Vitalis - ECPv6.15.20//NONSGML v1.0//EN
CALSCALE:GREGORIAN
METHOD:PUBLISH
X-ORIGINAL-URL:https://pv-vitalis.nl
X-WR-CALDESC:Evenementen voor Vitalis
REFRESH-INTERVAL;VALUE=DURATION:PT1H
X-Robots-Tag:noindex
X-PUBLISHED-TTL:PT1H
BEGIN:VTIMEZONE
TZID:Europe/Amsterdam
BEGIN:DAYLIGHT
TZOFFSETFROM:+0100
TZOFFSETTO:+0200
TZNAME:CEST
DTSTART:20210328T010000
END:DAYLIGHT
BEGIN:STANDARD
TZOFFSETFROM:+0200
TZOFFSETTO:+0100
TZNAME:CET
DTSTART:20211031T010000
END:STANDARD
BEGIN:DAYLIGHT
TZOFFSETFROM:+0100
TZOFFSETTO:+0200
TZNAME:CEST
DTSTART:20220327T010000
END:DAYLIGHT
BEGIN:STANDARD
TZOFFSETFROM:+0200
TZOFFSETTO:+0100
TZNAME:CET
DTSTART:20221030T010000
END:STANDARD
BEGIN:DAYLIGHT
TZOFFSETFROM:+0100
TZOFFSETTO:+0200
TZNAME:CEST
DTSTART:20230326T010000
END:DAYLIGHT
BEGIN:STANDARD
TZOFFSETFROM:+0200
TZOFFSETTO:+0100
TZNAME:CET
DTSTART:20231029T010000
END:STANDARD
END:VTIMEZONE
BEGIN:VEVENT
DTSTART;TZID=Europe/Amsterdam:20220618T090000
DTEND;TZID=Europe/Amsterdam:20220625T220000
DTSTAMP:20260421T091332
CREATED:20220603T143539Z
LAST-MODIFIED:20220624T082810Z
UID:10000092-1655542800-1656194400@pv-vitalis.nl
SUMMARY:Wandeling Nijmegen
DESCRIPTION:7 –bruggenroute in Nijmegen \nDeze ongeveer 15 km lange 7-bruggenroute start bij het NS station in Nijmegen. Je volgt bijna voortdurend het water en steekt regelmatig de Waal over en het eiland VeurLent dat in de Waal voor Nijmegen ligt. Het is een mooie mix van landelijke ruimte en stadse gezelligheid\, waarbij je getroffen zult worden door de architectuur van de verschillende bruggen. Je komt langs oude haventjes\, neemt stevige trappen om de bruggen te bereiken en onderweg vind je lekkere pauzeplekken.\nDoor de PV wordt u tijdens de wandeling\, bij Restaurant Waalzicht (punt 7 tijdens de route)  getrakteerd op een kop koffie/thee met wat lekkers. En bij het eindpunt op een glaasje. \nDatum: Zaterdag 18 juni\nVertrek: SKB 09.00uur\nOpgeven : Via een inschrijflijst bij de centrale receptie vanaf maandag 30 Mei tm maandag 6 Juni \nKosten: €5\,00 pp  (de wandel route wordt in de bus uitgedeeld)\nOpgeven = betalen
URL:https://pv-vitalis.nl/evenement/wandeling-nijmegen/
ATTACH;FMTTYPE=image/jpeg:https://pv-vitalis.nl/wp-content/uploads/2022/06/bruggen.jpg
ORGANIZER;CN="Annette Meekes":MAILTO:A.G.Meekes@skbwinterswijk.nl
END:VEVENT
END:VCALENDAR