BEGIN:VCALENDAR
VERSION:2.0
PRODID:-//Vitalis - ECPv6.15.20//NONSGML v1.0//EN
CALSCALE:GREGORIAN
METHOD:PUBLISH
X-WR-CALNAME:Vitalis
X-ORIGINAL-URL:https://pv-vitalis.nl
X-WR-CALDESC:Evenementen voor Vitalis
REFRESH-INTERVAL;VALUE=DURATION:PT1H
X-Robots-Tag:noindex
X-PUBLISHED-TTL:PT1H
BEGIN:VTIMEZONE
TZID:UTC
BEGIN:STANDARD
TZOFFSETFROM:+0000
TZOFFSETTO:+0000
TZNAME:UTC
DTSTART:20210101T000000
END:STANDARD
END:VTIMEZONE
BEGIN:VEVENT
DTSTART;TZID=UTC:20220603T170000
DTEND;TZID=UTC:20220603T220000
DTSTAMP:20260421T091336
CREATED:20220214T122011Z
LAST-MODIFIED:20220304T203701Z
UID:10000077-1654275600-1654293600@pv-vitalis.nl
SUMMARY:Zomerfeest
DESCRIPTION:Vitalis organiseert een gezellig  Zomerfeest met lekker eten en een super band. \nGezellig samen zijn met een hapje eten waarbij de band Cabrio (www.cabriomusic.nl) de muziek zal verzorgen. \nHet Zomerfeest vindt plaats bij Steakhouse Vivaldi\, Haartweg 2\, 7109 BJ Winterswijk-Miste. (steakhousevivaldi.nl) \nOpgave:\nI.v.m het eten willen wij graag weten hoeveel mensen er komen. Geef daarom aan of je komt. Inschrijven van  maandag 19 April t/m Vrijdag 13 Mei.\nLet op maximaal 500  personen ! \nP.S. Als er medewerkers zijn die een speciaal dieet hebben\, kunnen zij dit doorgeven bij Annette Meekes (receptie)\, a.g.meekes@skbwinterswijk.nl \nN.B. Meldt u zich na de inschrijvingsdatum  alsnog af\, of komt u het bandje niet op halen\, zijn wij helaas genoodzaakt het bedrag van €25 in rekening te brengen. Dit wordt ingehouden via het salaris.\nVanaf eind mei kun je een armbandje ophalen bij de centrale receptie als bewijs van toegang tot het Zomerfeest. Zonder bandje geen intree mogelijk. Voor vragen kun je terecht bij de organisator. \nWij bieden jullie de mogelijkheid om met de bus te gaan vanaf SKB. Geef aan of je mee zou willen “reizen” naar Vivaldi\, heen en terug. De bus pendelt heen en weer van 16.30-17.30 en ’s avonds van 22.15-23.00.
URL:https://pv-vitalis.nl/evenement/zomerfeest/
LOCATION:Steakhouse Vivaldi\, Haartweg 2\, Winterswijk-Miste\, 7109 BJ
ATTACH;FMTTYPE=image/png:https://pv-vitalis.nl/wp-content/uploads/2022/02/Cabrio.png
ORGANIZER;CN="Annette Meekes":MAILTO:A.G.Meekes@skbwinterswijk.nl
END:VEVENT
END:VCALENDAR